BEGIN:VCALENDAR
VERSION:2.0
PRODID:-//McBride Memorial Library - ECPv6.15.15//NONSGML v1.0//EN
CALSCALE:GREGORIAN
METHOD:PUBLISH
X-WR-CALNAME:McBride Memorial Library
X-ORIGINAL-URL:https://dev.mcbridelibrary.org
X-WR-CALDESC:Events for McBride Memorial Library
REFRESH-INTERVAL;VALUE=DURATION:PT1H
X-Robots-Tag:noindex
X-PUBLISHED-TTL:PT1H
BEGIN:VTIMEZONE
TZID:UTC
BEGIN:STANDARD
TZOFFSETFROM:+0000
TZOFFSETTO:+0000
TZNAME:UTC
DTSTART:20240101T000000
END:STANDARD
END:VTIMEZONE
BEGIN:VEVENT
DTSTART;TZID=UTC:20250709T103000
DTEND;TZID=UTC:20250709T113000
DTSTAMP:20260421T045016
CREATED:20250604T034335Z
LAST-MODIFIED:20250604T034335Z
UID:6198-1752057000-1752060600@dev.mcbridelibrary.org
SUMMARY:Art & Nature Workshop
DESCRIPTION:Join guest artist and art facilitator Nikki Sunday on a free exploratory art experience. Participants will use materials from nature to create temporary mandalas. Mandalas are geometric shapes often used to harness attention and focus. They are valued by a variety of cultures and can be considered a form of meditation or grounding practice. Build and rebuild at your leisure while enjoying time in the library’s memorial garden.
URL:https://dev.mcbridelibrary.org/event/art-nature-workshop/
LOCATION:Judy’s Garden
ATTACH;FMTTYPE=image/png:https://dev.mcbridelibrary.org/wp-content/uploads/2025/06/nikki.png
END:VEVENT
END:VCALENDAR