BEGIN:VCALENDAR
VERSION:2.0
PRODID:-//McBride Memorial Library - ECPv6.15.15//NONSGML v1.0//EN
CALSCALE:GREGORIAN
METHOD:PUBLISH
X-WR-CALNAME:McBride Memorial Library
X-ORIGINAL-URL:https://dev.mcbridelibrary.org
X-WR-CALDESC:Events for McBride Memorial Library
REFRESH-INTERVAL;VALUE=DURATION:PT1H
X-Robots-Tag:noindex
X-PUBLISHED-TTL:PT1H
BEGIN:VTIMEZONE
TZID:UTC
BEGIN:STANDARD
TZOFFSETFROM:+0000
TZOFFSETTO:+0000
TZNAME:UTC
DTSTART:20240101T000000
END:STANDARD
END:VTIMEZONE
BEGIN:VEVENT
DTSTART;TZID=UTC:20250520T180000
DTEND;TZID=UTC:20250520T200000
DTSTAMP:20260419T075717
CREATED:20250426T210905Z
LAST-MODIFIED:20250426T210905Z
UID:5937-1747764000-1747771200@dev.mcbridelibrary.org
SUMMARY:Documentary Screening - Free For All: The Public Library at BTCCA
DESCRIPTION:Enjoy a free screening of the new PBS Independent Lens documentary Free For All: The Public Library at the Berwick Theater and Center for Community Arts. The film addresses how public libraries shaped the country and continue to be a sanctuary for Americans everywhere.
URL:https://dev.mcbridelibrary.org/event/documentary-screening-free-for-all-the-public-library-at-btcca/
END:VEVENT
END:VCALENDAR