BEGIN:VCALENDAR
VERSION:2.0
PRODID:-//McBride Memorial Library - ECPv6.15.15//NONSGML v1.0//EN
CALSCALE:GREGORIAN
METHOD:PUBLISH
X-WR-CALNAME:McBride Memorial Library
X-ORIGINAL-URL:https://dev.mcbridelibrary.org
X-WR-CALDESC:Events for McBride Memorial Library
REFRESH-INTERVAL;VALUE=DURATION:PT1H
X-Robots-Tag:noindex
X-PUBLISHED-TTL:PT1H
BEGIN:VTIMEZONE
TZID:UTC
BEGIN:STANDARD
TZOFFSETFROM:+0000
TZOFFSETTO:+0000
TZNAME:UTC
DTSTART:20240101T000000
END:STANDARD
END:VTIMEZONE
BEGIN:VEVENT
DTSTART;TZID=UTC:20250401T183000
DTEND;TZID=UTC:20250401T193000
DTSTAMP:20260419T093524
CREATED:20250219T233748Z
LAST-MODIFIED:20250219T233748Z
UID:10000045-1743532200-1743535800@dev.mcbridelibrary.org
SUMMARY:The Healthcare Game
DESCRIPTION:The Healthcare Game: Learn How to Play \nCommunity medical advocate Bette Grey teaches free classes offering instruction and useful tips for navigating health insurance and healthcare. \nTuesdays\, March 11-April 15 \nNo registration required\, attend all six classes or drop in any week at your convenience.
URL:https://dev.mcbridelibrary.org/event/the-healthcare-game/2025-04-01/
LOCATION:Community Room\, second floor
ATTACH;FMTTYPE=image/png:https://dev.mcbridelibrary.org/wp-content/uploads/2025/02/healthcare-logo.png
END:VEVENT
END:VCALENDAR