BEGIN:VCALENDAR
VERSION:2.0
PRODID:-//McBride Memorial Library - ECPv6.15.15//NONSGML v1.0//EN
CALSCALE:GREGORIAN
METHOD:PUBLISH
X-WR-CALNAME:McBride Memorial Library
X-ORIGINAL-URL:https://dev.mcbridelibrary.org
X-WR-CALDESC:Events for McBride Memorial Library
REFRESH-INTERVAL;VALUE=DURATION:PT1H
X-Robots-Tag:noindex
X-PUBLISHED-TTL:PT1H
BEGIN:VTIMEZONE
TZID:America/New_York
BEGIN:DAYLIGHT
TZOFFSETFROM:-0500
TZOFFSETTO:-0400
TZNAME:EDT
DTSTART:20280312T070000
END:DAYLIGHT
BEGIN:STANDARD
TZOFFSETFROM:-0400
TZOFFSETTO:-0500
TZNAME:EST
DTSTART:20281105T060000
END:STANDARD
BEGIN:DAYLIGHT
TZOFFSETFROM:-0500
TZOFFSETTO:-0400
TZNAME:EDT
DTSTART:20290311T070000
END:DAYLIGHT
BEGIN:STANDARD
TZOFFSETFROM:-0400
TZOFFSETTO:-0500
TZNAME:EST
DTSTART:20291104T060000
END:STANDARD
BEGIN:DAYLIGHT
TZOFFSETFROM:-0500
TZOFFSETTO:-0400
TZNAME:EDT
DTSTART:20300310T070000
END:DAYLIGHT
BEGIN:STANDARD
TZOFFSETFROM:-0400
TZOFFSETTO:-0500
TZNAME:EST
DTSTART:20301103T060000
END:STANDARD
BEGIN:DAYLIGHT
TZOFFSETFROM:-0500
TZOFFSETTO:-0400
TZNAME:EDT
DTSTART:20310309T070000
END:DAYLIGHT
BEGIN:STANDARD
TZOFFSETFROM:-0400
TZOFFSETTO:-0500
TZNAME:EST
DTSTART:20311102T060000
END:STANDARD
END:VTIMEZONE
BEGIN:VEVENT
DTSTART;TZID=America/New_York:20291025T123000
DTEND;TZID=America/New_York:20291025T133000
DTSTAMP:20260420T031151
CREATED:20251227T204913Z
LAST-MODIFIED:20251227T204913Z
UID:10000470-1887625800-1887629400@dev.mcbridelibrary.org
SUMMARY:Books on Wheels—Rosewood Apts
DESCRIPTION:
URL:https://dev.mcbridelibrary.org/event/books-on-wheels-rosewood-apts/2029-10-25/
ATTACH;FMTTYPE=image/png:https://dev.mcbridelibrary.org/wp-content/uploads/2024/12/Books-On-Wheels.png
END:VEVENT
BEGIN:VEVENT
DTSTART;TZID=America/New_York:20291101T123000
DTEND;TZID=America/New_York:20291101T133000
DTSTAMP:20260420T031151
CREATED:20251227T211022Z
LAST-MODIFIED:20251227T211022Z
UID:10000605-1888230600-1888234200@dev.mcbridelibrary.org
SUMMARY:Books on Wheels—Celebration Villa
DESCRIPTION:
URL:https://dev.mcbridelibrary.org/event/books-on-wheels-celebration-villa-2/2029-11-01/
ATTACH;FMTTYPE=image/png:https://dev.mcbridelibrary.org/wp-content/uploads/2024/12/Books-On-Wheels.png
END:VEVENT
BEGIN:VEVENT
DTSTART;TZID=America/New_York:20291103T110000
DTEND;TZID=America/New_York:20291103T130000
DTSTAMP:20260420T031151
CREATED:20251227T215930Z
LAST-MODIFIED:20251227T215930Z
UID:10000723-1888398000-1888405200@dev.mcbridelibrary.org
SUMMARY:Silent Book Club
DESCRIPTION:For adults (18 & up) \nFor teens (13-17) \nBecome a member of the McBride chapter of Silent Book Club®.  Check it out at silentbook.club and join readers in over 1\,000 chapters worldwide. “At Silent Book Club® there’s no assigned reading. SBC members gather in bars\, cafés\, bookstores\, libraries\, and online to read together in quiet camaraderie.”
URL:https://dev.mcbridelibrary.org/event/silent-book-club-3/2029-11-03/
LOCATION:Reading Lounge\, main floor
ATTACH;FMTTYPE=image/png:https://dev.mcbridelibrary.org/wp-content/uploads/2024/12/SBC.png
END:VEVENT
BEGIN:VEVENT
DTSTART;TZID=America/New_York:20291108T123000
DTEND;TZID=America/New_York:20291108T133000
DTSTAMP:20260420T031151
CREATED:20251227T204913Z
LAST-MODIFIED:20251227T204913Z
UID:10000471-1888835400-1888839000@dev.mcbridelibrary.org
SUMMARY:Books on Wheels—Rosewood Apts
DESCRIPTION:
URL:https://dev.mcbridelibrary.org/event/books-on-wheels-rosewood-apts/2029-11-08/
ATTACH;FMTTYPE=image/png:https://dev.mcbridelibrary.org/wp-content/uploads/2024/12/Books-On-Wheels.png
END:VEVENT
BEGIN:VEVENT
DTSTART;TZID=America/New_York:20291113T123000
DTEND;TZID=America/New_York:20291113T133000
DTSTAMP:20260420T031151
CREATED:20260127T174041Z
LAST-MODIFIED:20260127T174041Z
UID:10000857-1889267400-1889271000@dev.mcbridelibrary.org
SUMMARY:Books on Wheels—Glen Brook & Evan Owens Apts
DESCRIPTION:
URL:https://dev.mcbridelibrary.org/event/books-on-wheels-glenbrook-evan-owens-apts-2/2029-11-13/
ATTACH;FMTTYPE=image/png:https://dev.mcbridelibrary.org/wp-content/uploads/2024/12/Books-On-Wheels.png
END:VEVENT
BEGIN:VEVENT
DTSTART;TZID=America/New_York:20291115T100000
DTEND;TZID=America/New_York:20291115T140000
DTSTAMP:20260420T031151
CREATED:20260204T201735Z
LAST-MODIFIED:20260204T201735Z
UID:10000919-1889431200-1889445600@dev.mcbridelibrary.org
SUMMARY:CareerLink Bus
DESCRIPTION:
URL:https://dev.mcbridelibrary.org/event/careerlink-bus/2029-11-15/
END:VEVENT
BEGIN:VEVENT
DTSTART;TZID=America/New_York:20291115T123000
DTEND;TZID=America/New_York:20291115T133000
DTSTAMP:20260420T031151
CREATED:20251227T211022Z
LAST-MODIFIED:20251227T211022Z
UID:10000606-1889440200-1889443800@dev.mcbridelibrary.org
SUMMARY:Books on Wheels—Celebration Villa
DESCRIPTION:
URL:https://dev.mcbridelibrary.org/event/books-on-wheels-celebration-villa-2/2029-11-15/
ATTACH;FMTTYPE=image/png:https://dev.mcbridelibrary.org/wp-content/uploads/2024/12/Books-On-Wheels.png
END:VEVENT
BEGIN:VEVENT
DTSTART;TZID=America/New_York:20291116T130000
DTEND;TZID=America/New_York:20291116T140000
DTSTAMP:20260420T031151
CREATED:20260126T221629Z
LAST-MODIFIED:20260126T221629Z
UID:10000790-1889528400-1889532000@dev.mcbridelibrary.org
SUMMARY:Genealogy Workshop
DESCRIPTION:The McBride genealogy group meets every second Friday at 1:00 pm. All are welcome.
URL:https://dev.mcbridelibrary.org/event/genealogy-workshop-2-2/2029-11-16/
LOCATION:Genealogy Room\, first floor
ATTACH;FMTTYPE=image/jpeg:https://dev.mcbridelibrary.org/wp-content/uploads/2024/12/genealogy-logo.jpg
END:VEVENT
BEGIN:VEVENT
DTSTART;TZID=America/New_York:20291122T123000
DTEND;TZID=America/New_York:20291122T133000
DTSTAMP:20260420T031151
CREATED:20251227T204913Z
LAST-MODIFIED:20251227T204913Z
UID:10000472-1890045000-1890048600@dev.mcbridelibrary.org
SUMMARY:Books on Wheels—Rosewood Apts
DESCRIPTION:
URL:https://dev.mcbridelibrary.org/event/books-on-wheels-rosewood-apts/2029-11-22/
ATTACH;FMTTYPE=image/png:https://dev.mcbridelibrary.org/wp-content/uploads/2024/12/Books-On-Wheels.png
END:VEVENT
BEGIN:VEVENT
DTSTART;TZID=America/New_York:20291129T123000
DTEND;TZID=America/New_York:20291129T133000
DTSTAMP:20260420T031151
CREATED:20251227T211022Z
LAST-MODIFIED:20251227T211022Z
UID:10000607-1890649800-1890653400@dev.mcbridelibrary.org
SUMMARY:Books on Wheels—Celebration Villa
DESCRIPTION:
URL:https://dev.mcbridelibrary.org/event/books-on-wheels-celebration-villa-2/2029-11-29/
ATTACH;FMTTYPE=image/png:https://dev.mcbridelibrary.org/wp-content/uploads/2024/12/Books-On-Wheels.png
END:VEVENT
BEGIN:VEVENT
DTSTART;TZID=America/New_York:20291201T110000
DTEND;TZID=America/New_York:20291201T130000
DTSTAMP:20260420T031151
CREATED:20251227T215930Z
LAST-MODIFIED:20251227T215930Z
UID:10000724-1890817200-1890824400@dev.mcbridelibrary.org
SUMMARY:Silent Book Club
DESCRIPTION:For adults (18 & up) \nFor teens (13-17) \nBecome a member of the McBride chapter of Silent Book Club®.  Check it out at silentbook.club and join readers in over 1\,000 chapters worldwide. “At Silent Book Club® there’s no assigned reading. SBC members gather in bars\, cafés\, bookstores\, libraries\, and online to read together in quiet camaraderie.”
URL:https://dev.mcbridelibrary.org/event/silent-book-club-3/2029-12-01/
LOCATION:Reading Lounge\, main floor
ATTACH;FMTTYPE=image/png:https://dev.mcbridelibrary.org/wp-content/uploads/2024/12/SBC.png
END:VEVENT
BEGIN:VEVENT
DTSTART;TZID=America/New_York:20291206T123000
DTEND;TZID=America/New_York:20291206T133000
DTSTAMP:20260420T031151
CREATED:20251227T204913Z
LAST-MODIFIED:20251227T204913Z
UID:10000473-1891254600-1891258200@dev.mcbridelibrary.org
SUMMARY:Books on Wheels—Rosewood Apts
DESCRIPTION:
URL:https://dev.mcbridelibrary.org/event/books-on-wheels-rosewood-apts/2029-12-06/
ATTACH;FMTTYPE=image/png:https://dev.mcbridelibrary.org/wp-content/uploads/2024/12/Books-On-Wheels.png
END:VEVENT
BEGIN:VEVENT
DTSTART;TZID=America/New_York:20291211T123000
DTEND;TZID=America/New_York:20291211T133000
DTSTAMP:20260420T031151
CREATED:20260127T174041Z
LAST-MODIFIED:20260127T174041Z
UID:10000858-1891686600-1891690200@dev.mcbridelibrary.org
SUMMARY:Books on Wheels—Glen Brook & Evan Owens Apts
DESCRIPTION:
URL:https://dev.mcbridelibrary.org/event/books-on-wheels-glenbrook-evan-owens-apts-2/2029-12-11/
ATTACH;FMTTYPE=image/png:https://dev.mcbridelibrary.org/wp-content/uploads/2024/12/Books-On-Wheels.png
END:VEVENT
BEGIN:VEVENT
DTSTART;TZID=America/New_York:20291213T123000
DTEND;TZID=America/New_York:20291213T133000
DTSTAMP:20260420T031151
CREATED:20251227T211022Z
LAST-MODIFIED:20251227T211022Z
UID:10000608-1891859400-1891863000@dev.mcbridelibrary.org
SUMMARY:Books on Wheels—Celebration Villa
DESCRIPTION:
URL:https://dev.mcbridelibrary.org/event/books-on-wheels-celebration-villa-2/2029-12-13/
ATTACH;FMTTYPE=image/png:https://dev.mcbridelibrary.org/wp-content/uploads/2024/12/Books-On-Wheels.png
END:VEVENT
BEGIN:VEVENT
DTSTART;TZID=America/New_York:20291220T100000
DTEND;TZID=America/New_York:20291220T140000
DTSTAMP:20260420T031151
CREATED:20260204T201735Z
LAST-MODIFIED:20260204T201735Z
UID:10000920-1892455200-1892469600@dev.mcbridelibrary.org
SUMMARY:CareerLink Bus
DESCRIPTION:
URL:https://dev.mcbridelibrary.org/event/careerlink-bus/2029-12-20/
END:VEVENT
BEGIN:VEVENT
DTSTART;TZID=America/New_York:20291220T123000
DTEND;TZID=America/New_York:20291220T133000
DTSTAMP:20260420T031151
CREATED:20251227T204913Z
LAST-MODIFIED:20251227T204913Z
UID:10000474-1892464200-1892467800@dev.mcbridelibrary.org
SUMMARY:Books on Wheels—Rosewood Apts
DESCRIPTION:
URL:https://dev.mcbridelibrary.org/event/books-on-wheels-rosewood-apts/2029-12-20/
ATTACH;FMTTYPE=image/png:https://dev.mcbridelibrary.org/wp-content/uploads/2024/12/Books-On-Wheels.png
END:VEVENT
BEGIN:VEVENT
DTSTART;TZID=America/New_York:20291221T130000
DTEND;TZID=America/New_York:20291221T140000
DTSTAMP:20260420T031151
CREATED:20260126T221629Z
LAST-MODIFIED:20260126T221629Z
UID:10000791-1892552400-1892556000@dev.mcbridelibrary.org
SUMMARY:Genealogy Workshop
DESCRIPTION:The McBride genealogy group meets every second Friday at 1:00 pm. All are welcome.
URL:https://dev.mcbridelibrary.org/event/genealogy-workshop-2-2/2029-12-21/
LOCATION:Genealogy Room\, first floor
ATTACH;FMTTYPE=image/jpeg:https://dev.mcbridelibrary.org/wp-content/uploads/2024/12/genealogy-logo.jpg
END:VEVENT
BEGIN:VEVENT
DTSTART;TZID=America/New_York:20291227T123000
DTEND;TZID=America/New_York:20291227T133000
DTSTAMP:20260420T031151
CREATED:20251227T211022Z
LAST-MODIFIED:20251227T211022Z
UID:10000609-1893069000-1893072600@dev.mcbridelibrary.org
SUMMARY:Books on Wheels—Celebration Villa
DESCRIPTION:
URL:https://dev.mcbridelibrary.org/event/books-on-wheels-celebration-villa-2/2029-12-27/
ATTACH;FMTTYPE=image/png:https://dev.mcbridelibrary.org/wp-content/uploads/2024/12/Books-On-Wheels.png
END:VEVENT
BEGIN:VEVENT
DTSTART;TZID=America/New_York:20300103T123000
DTEND;TZID=America/New_York:20300103T133000
DTSTAMP:20260420T031151
CREATED:20251227T204913Z
LAST-MODIFIED:20251227T204913Z
UID:10000475-1893673800-1893677400@dev.mcbridelibrary.org
SUMMARY:Books on Wheels—Rosewood Apts
DESCRIPTION:
URL:https://dev.mcbridelibrary.org/event/books-on-wheels-rosewood-apts/2030-01-03/
ATTACH;FMTTYPE=image/png:https://dev.mcbridelibrary.org/wp-content/uploads/2024/12/Books-On-Wheels.png
END:VEVENT
BEGIN:VEVENT
DTSTART;TZID=America/New_York:20300105T110000
DTEND;TZID=America/New_York:20300105T130000
DTSTAMP:20260420T031151
CREATED:20251227T215930Z
LAST-MODIFIED:20251227T215930Z
UID:10000725-1893841200-1893848400@dev.mcbridelibrary.org
SUMMARY:Silent Book Club
DESCRIPTION:For adults (18 & up) \nFor teens (13-17) \nBecome a member of the McBride chapter of Silent Book Club®.  Check it out at silentbook.club and join readers in over 1\,000 chapters worldwide. “At Silent Book Club® there’s no assigned reading. SBC members gather in bars\, cafés\, bookstores\, libraries\, and online to read together in quiet camaraderie.”
URL:https://dev.mcbridelibrary.org/event/silent-book-club-3/2030-01-05/
LOCATION:Reading Lounge\, main floor
ATTACH;FMTTYPE=image/png:https://dev.mcbridelibrary.org/wp-content/uploads/2024/12/SBC.png
END:VEVENT
BEGIN:VEVENT
DTSTART;TZID=America/New_York:20300108T123000
DTEND;TZID=America/New_York:20300108T133000
DTSTAMP:20260420T031151
CREATED:20260127T174041Z
LAST-MODIFIED:20260127T174041Z
UID:10000859-1894105800-1894109400@dev.mcbridelibrary.org
SUMMARY:Books on Wheels—Glen Brook & Evan Owens Apts
DESCRIPTION:
URL:https://dev.mcbridelibrary.org/event/books-on-wheels-glenbrook-evan-owens-apts-2/2030-01-08/
ATTACH;FMTTYPE=image/png:https://dev.mcbridelibrary.org/wp-content/uploads/2024/12/Books-On-Wheels.png
END:VEVENT
BEGIN:VEVENT
DTSTART;TZID=America/New_York:20300110T123000
DTEND;TZID=America/New_York:20300110T133000
DTSTAMP:20260420T031151
CREATED:20251227T211022Z
LAST-MODIFIED:20251227T211022Z
UID:10000610-1894278600-1894282200@dev.mcbridelibrary.org
SUMMARY:Books on Wheels—Celebration Villa
DESCRIPTION:
URL:https://dev.mcbridelibrary.org/event/books-on-wheels-celebration-villa-2/2030-01-10/
ATTACH;FMTTYPE=image/png:https://dev.mcbridelibrary.org/wp-content/uploads/2024/12/Books-On-Wheels.png
END:VEVENT
BEGIN:VEVENT
DTSTART;TZID=America/New_York:20300117T100000
DTEND;TZID=America/New_York:20300117T140000
DTSTAMP:20260420T031151
CREATED:20260204T201735Z
LAST-MODIFIED:20260204T201735Z
UID:10000921-1894874400-1894888800@dev.mcbridelibrary.org
SUMMARY:CareerLink Bus
DESCRIPTION:
URL:https://dev.mcbridelibrary.org/event/careerlink-bus/2030-01-17/
END:VEVENT
BEGIN:VEVENT
DTSTART;TZID=America/New_York:20300117T123000
DTEND;TZID=America/New_York:20300117T133000
DTSTAMP:20260420T031151
CREATED:20251227T204913Z
LAST-MODIFIED:20251227T204913Z
UID:10000476-1894883400-1894887000@dev.mcbridelibrary.org
SUMMARY:Books on Wheels—Rosewood Apts
DESCRIPTION:
URL:https://dev.mcbridelibrary.org/event/books-on-wheels-rosewood-apts/2030-01-17/
ATTACH;FMTTYPE=image/png:https://dev.mcbridelibrary.org/wp-content/uploads/2024/12/Books-On-Wheels.png
END:VEVENT
BEGIN:VEVENT
DTSTART;TZID=America/New_York:20300118T130000
DTEND;TZID=America/New_York:20300118T140000
DTSTAMP:20260420T031151
CREATED:20260126T221629Z
LAST-MODIFIED:20260126T221629Z
UID:10000792-1894971600-1894975200@dev.mcbridelibrary.org
SUMMARY:Genealogy Workshop
DESCRIPTION:The McBride genealogy group meets every second Friday at 1:00 pm. All are welcome.
URL:https://dev.mcbridelibrary.org/event/genealogy-workshop-2-2/2030-01-18/
LOCATION:Genealogy Room\, first floor
ATTACH;FMTTYPE=image/jpeg:https://dev.mcbridelibrary.org/wp-content/uploads/2024/12/genealogy-logo.jpg
END:VEVENT
BEGIN:VEVENT
DTSTART;TZID=America/New_York:20300124T123000
DTEND;TZID=America/New_York:20300124T133000
DTSTAMP:20260420T031151
CREATED:20251227T211022Z
LAST-MODIFIED:20251227T211022Z
UID:10000611-1895488200-1895491800@dev.mcbridelibrary.org
SUMMARY:Books on Wheels—Celebration Villa
DESCRIPTION:
URL:https://dev.mcbridelibrary.org/event/books-on-wheels-celebration-villa-2/2030-01-24/
ATTACH;FMTTYPE=image/png:https://dev.mcbridelibrary.org/wp-content/uploads/2024/12/Books-On-Wheels.png
END:VEVENT
BEGIN:VEVENT
DTSTART;TZID=America/New_York:20300131T123000
DTEND;TZID=America/New_York:20300131T133000
DTSTAMP:20260420T031151
CREATED:20251227T204913Z
LAST-MODIFIED:20251227T204913Z
UID:10000477-1896093000-1896096600@dev.mcbridelibrary.org
SUMMARY:Books on Wheels—Rosewood Apts
DESCRIPTION:
URL:https://dev.mcbridelibrary.org/event/books-on-wheels-rosewood-apts/2030-01-31/
ATTACH;FMTTYPE=image/png:https://dev.mcbridelibrary.org/wp-content/uploads/2024/12/Books-On-Wheels.png
END:VEVENT
BEGIN:VEVENT
DTSTART;TZID=America/New_York:20300202T110000
DTEND;TZID=America/New_York:20300202T130000
DTSTAMP:20260420T031151
CREATED:20251227T215930Z
LAST-MODIFIED:20251227T215930Z
UID:10000726-1896260400-1896267600@dev.mcbridelibrary.org
SUMMARY:Silent Book Club
DESCRIPTION:For adults (18 & up) \nFor teens (13-17) \nBecome a member of the McBride chapter of Silent Book Club®.  Check it out at silentbook.club and join readers in over 1\,000 chapters worldwide. “At Silent Book Club® there’s no assigned reading. SBC members gather in bars\, cafés\, bookstores\, libraries\, and online to read together in quiet camaraderie.”
URL:https://dev.mcbridelibrary.org/event/silent-book-club-3/2030-02-02/
LOCATION:Reading Lounge\, main floor
ATTACH;FMTTYPE=image/png:https://dev.mcbridelibrary.org/wp-content/uploads/2024/12/SBC.png
END:VEVENT
BEGIN:VEVENT
DTSTART;TZID=America/New_York:20300205T123000
DTEND;TZID=America/New_York:20300205T133000
DTSTAMP:20260420T031151
CREATED:20260127T174041Z
LAST-MODIFIED:20260127T174041Z
UID:10000860-1896525000-1896528600@dev.mcbridelibrary.org
SUMMARY:Books on Wheels—Glen Brook & Evan Owens Apts
DESCRIPTION:
URL:https://dev.mcbridelibrary.org/event/books-on-wheels-glenbrook-evan-owens-apts-2/2030-02-05/
ATTACH;FMTTYPE=image/png:https://dev.mcbridelibrary.org/wp-content/uploads/2024/12/Books-On-Wheels.png
END:VEVENT
BEGIN:VEVENT
DTSTART;TZID=America/New_York:20300207T123000
DTEND;TZID=America/New_York:20300207T133000
DTSTAMP:20260420T031151
CREATED:20251227T211022Z
LAST-MODIFIED:20251227T211022Z
UID:10000612-1896697800-1896701400@dev.mcbridelibrary.org
SUMMARY:Books on Wheels—Celebration Villa
DESCRIPTION:
URL:https://dev.mcbridelibrary.org/event/books-on-wheels-celebration-villa-2/2030-02-07/
ATTACH;FMTTYPE=image/png:https://dev.mcbridelibrary.org/wp-content/uploads/2024/12/Books-On-Wheels.png
END:VEVENT
END:VCALENDAR