BEGIN:VCALENDAR
VERSION:2.0
PRODID:-//McBride Memorial Library - ECPv6.15.15//NONSGML v1.0//EN
CALSCALE:GREGORIAN
METHOD:PUBLISH
X-ORIGINAL-URL:https://dev.mcbridelibrary.org
X-WR-CALDESC:Events for McBride Memorial Library
REFRESH-INTERVAL;VALUE=DURATION:PT1H
X-Robots-Tag:noindex
X-PUBLISHED-TTL:PT1H
BEGIN:VTIMEZONE
TZID:America/New_York
BEGIN:DAYLIGHT
TZOFFSETFROM:-0500
TZOFFSETTO:-0400
TZNAME:EDT
DTSTART:20280312T070000
END:DAYLIGHT
BEGIN:STANDARD
TZOFFSETFROM:-0400
TZOFFSETTO:-0500
TZNAME:EST
DTSTART:20281105T060000
END:STANDARD
BEGIN:DAYLIGHT
TZOFFSETFROM:-0500
TZOFFSETTO:-0400
TZNAME:EDT
DTSTART:20290311T070000
END:DAYLIGHT
BEGIN:STANDARD
TZOFFSETFROM:-0400
TZOFFSETTO:-0500
TZNAME:EST
DTSTART:20291104T060000
END:STANDARD
BEGIN:DAYLIGHT
TZOFFSETFROM:-0500
TZOFFSETTO:-0400
TZNAME:EDT
DTSTART:20300310T070000
END:DAYLIGHT
BEGIN:STANDARD
TZOFFSETFROM:-0400
TZOFFSETTO:-0500
TZNAME:EST
DTSTART:20301103T060000
END:STANDARD
END:VTIMEZONE
BEGIN:VEVENT
DTSTART;TZID=America/New_York:20290726T123000
DTEND;TZID=America/New_York:20290726T133000
DTSTAMP:20260419T191522
CREATED:20251227T211022Z
LAST-MODIFIED:20251227T211022Z
UID:10000598-1879763400-1879767000@dev.mcbridelibrary.org
SUMMARY:Books on Wheels—Celebration Villa
DESCRIPTION:
URL:https://dev.mcbridelibrary.org/event/books-on-wheels-celebration-villa-2/2029-07-26/
ATTACH;FMTTYPE=image/png:https://dev.mcbridelibrary.org/wp-content/uploads/2024/12/Books-On-Wheels.png
END:VEVENT
BEGIN:VEVENT
DTSTART;TZID=America/New_York:20290802T123000
DTEND;TZID=America/New_York:20290802T133000
DTSTAMP:20260419T191522
CREATED:20251227T204913Z
LAST-MODIFIED:20251227T204913Z
UID:10000464-1880368200-1880371800@dev.mcbridelibrary.org
SUMMARY:Books on Wheels—Rosewood Apts
DESCRIPTION:
URL:https://dev.mcbridelibrary.org/event/books-on-wheels-rosewood-apts/2029-08-02/
ATTACH;FMTTYPE=image/png:https://dev.mcbridelibrary.org/wp-content/uploads/2024/12/Books-On-Wheels.png
END:VEVENT
BEGIN:VEVENT
DTSTART;TZID=America/New_York:20290804T110000
DTEND;TZID=America/New_York:20290804T130000
DTSTAMP:20260419T191522
CREATED:20251227T215930Z
LAST-MODIFIED:20251227T215930Z
UID:10000720-1880535600-1880542800@dev.mcbridelibrary.org
SUMMARY:Silent Book Club
DESCRIPTION:For adults (18 & up) \nFor teens (13-17) \nBecome a member of the McBride chapter of Silent Book Club®.  Check it out at silentbook.club and join readers in over 1\,000 chapters worldwide. “At Silent Book Club® there’s no assigned reading. SBC members gather in bars\, cafés\, bookstores\, libraries\, and online to read together in quiet camaraderie.”
URL:https://dev.mcbridelibrary.org/event/silent-book-club-3/2029-08-04/
LOCATION:Reading Lounge\, main floor
ATTACH;FMTTYPE=image/png:https://dev.mcbridelibrary.org/wp-content/uploads/2024/12/SBC.png
END:VEVENT
BEGIN:VEVENT
DTSTART;TZID=America/New_York:20290809T123000
DTEND;TZID=America/New_York:20290809T133000
DTSTAMP:20260419T191522
CREATED:20251227T211022Z
LAST-MODIFIED:20251227T211022Z
UID:10000599-1880973000-1880976600@dev.mcbridelibrary.org
SUMMARY:Books on Wheels—Celebration Villa
DESCRIPTION:
URL:https://dev.mcbridelibrary.org/event/books-on-wheels-celebration-villa-2/2029-08-09/
ATTACH;FMTTYPE=image/png:https://dev.mcbridelibrary.org/wp-content/uploads/2024/12/Books-On-Wheels.png
END:VEVENT
BEGIN:VEVENT
DTSTART;TZID=America/New_York:20290816T100000
DTEND;TZID=America/New_York:20290816T140000
DTSTAMP:20260419T191522
CREATED:20260204T201735Z
LAST-MODIFIED:20260204T201735Z
UID:10000916-1881568800-1881583200@dev.mcbridelibrary.org
SUMMARY:CareerLink Bus
DESCRIPTION:
URL:https://dev.mcbridelibrary.org/event/careerlink-bus/2029-08-16/
END:VEVENT
BEGIN:VEVENT
DTSTART;TZID=America/New_York:20290816T123000
DTEND;TZID=America/New_York:20290816T133000
DTSTAMP:20260419T191522
CREATED:20251227T204913Z
LAST-MODIFIED:20251227T204913Z
UID:10000465-1881577800-1881581400@dev.mcbridelibrary.org
SUMMARY:Books on Wheels—Rosewood Apts
DESCRIPTION:
URL:https://dev.mcbridelibrary.org/event/books-on-wheels-rosewood-apts/2029-08-16/
ATTACH;FMTTYPE=image/png:https://dev.mcbridelibrary.org/wp-content/uploads/2024/12/Books-On-Wheels.png
END:VEVENT
BEGIN:VEVENT
DTSTART;TZID=America/New_York:20290817T130000
DTEND;TZID=America/New_York:20290817T140000
DTSTAMP:20260419T191522
CREATED:20260126T221629Z
LAST-MODIFIED:20260126T221629Z
UID:10000787-1881666000-1881669600@dev.mcbridelibrary.org
SUMMARY:Genealogy Workshop
DESCRIPTION:The McBride genealogy group meets every second Friday at 1:00 pm. All are welcome.
URL:https://dev.mcbridelibrary.org/event/genealogy-workshop-2-2/2029-08-17/
LOCATION:Genealogy Room\, first floor
ATTACH;FMTTYPE=image/jpeg:https://dev.mcbridelibrary.org/wp-content/uploads/2024/12/genealogy-logo.jpg
END:VEVENT
BEGIN:VEVENT
DTSTART;TZID=America/New_York:20290821T123000
DTEND;TZID=America/New_York:20290821T133000
DTSTAMP:20260419T191522
CREATED:20260127T174041Z
LAST-MODIFIED:20260127T174041Z
UID:10000854-1882009800-1882013400@dev.mcbridelibrary.org
SUMMARY:Books on Wheels—Glen Brook & Evan Owens Apts
DESCRIPTION:
URL:https://dev.mcbridelibrary.org/event/books-on-wheels-glenbrook-evan-owens-apts-2/2029-08-21/
ATTACH;FMTTYPE=image/png:https://dev.mcbridelibrary.org/wp-content/uploads/2024/12/Books-On-Wheels.png
END:VEVENT
BEGIN:VEVENT
DTSTART;TZID=America/New_York:20290823T123000
DTEND;TZID=America/New_York:20290823T133000
DTSTAMP:20260419T191522
CREATED:20251227T211022Z
LAST-MODIFIED:20251227T211022Z
UID:10000600-1882182600-1882186200@dev.mcbridelibrary.org
SUMMARY:Books on Wheels—Celebration Villa
DESCRIPTION:
URL:https://dev.mcbridelibrary.org/event/books-on-wheels-celebration-villa-2/2029-08-23/
ATTACH;FMTTYPE=image/png:https://dev.mcbridelibrary.org/wp-content/uploads/2024/12/Books-On-Wheels.png
END:VEVENT
BEGIN:VEVENT
DTSTART;TZID=America/New_York:20290830T123000
DTEND;TZID=America/New_York:20290830T133000
DTSTAMP:20260419T191522
CREATED:20251227T204913Z
LAST-MODIFIED:20251227T204913Z
UID:10000466-1882787400-1882791000@dev.mcbridelibrary.org
SUMMARY:Books on Wheels—Rosewood Apts
DESCRIPTION:
URL:https://dev.mcbridelibrary.org/event/books-on-wheels-rosewood-apts/2029-08-30/
ATTACH;FMTTYPE=image/png:https://dev.mcbridelibrary.org/wp-content/uploads/2024/12/Books-On-Wheels.png
END:VEVENT
BEGIN:VEVENT
DTSTART;TZID=America/New_York:20290901T110000
DTEND;TZID=America/New_York:20290901T130000
DTSTAMP:20260419T191522
CREATED:20251227T215930Z
LAST-MODIFIED:20251227T215930Z
UID:10000721-1882954800-1882962000@dev.mcbridelibrary.org
SUMMARY:Silent Book Club
DESCRIPTION:For adults (18 & up) \nFor teens (13-17) \nBecome a member of the McBride chapter of Silent Book Club®.  Check it out at silentbook.club and join readers in over 1\,000 chapters worldwide. “At Silent Book Club® there’s no assigned reading. SBC members gather in bars\, cafés\, bookstores\, libraries\, and online to read together in quiet camaraderie.”
URL:https://dev.mcbridelibrary.org/event/silent-book-club-3/2029-09-01/
LOCATION:Reading Lounge\, main floor
ATTACH;FMTTYPE=image/png:https://dev.mcbridelibrary.org/wp-content/uploads/2024/12/SBC.png
END:VEVENT
BEGIN:VEVENT
DTSTART;TZID=America/New_York:20290906T123000
DTEND;TZID=America/New_York:20290906T133000
DTSTAMP:20260419T191522
CREATED:20251227T211022Z
LAST-MODIFIED:20251227T211022Z
UID:10000601-1883392200-1883395800@dev.mcbridelibrary.org
SUMMARY:Books on Wheels—Celebration Villa
DESCRIPTION:
URL:https://dev.mcbridelibrary.org/event/books-on-wheels-celebration-villa-2/2029-09-06/
ATTACH;FMTTYPE=image/png:https://dev.mcbridelibrary.org/wp-content/uploads/2024/12/Books-On-Wheels.png
END:VEVENT
BEGIN:VEVENT
DTSTART;TZID=America/New_York:20290913T123000
DTEND;TZID=America/New_York:20290913T133000
DTSTAMP:20260419T191522
CREATED:20251227T204913Z
LAST-MODIFIED:20251227T204913Z
UID:10000467-1883997000-1884000600@dev.mcbridelibrary.org
SUMMARY:Books on Wheels—Rosewood Apts
DESCRIPTION:
URL:https://dev.mcbridelibrary.org/event/books-on-wheels-rosewood-apts/2029-09-13/
ATTACH;FMTTYPE=image/png:https://dev.mcbridelibrary.org/wp-content/uploads/2024/12/Books-On-Wheels.png
END:VEVENT
BEGIN:VEVENT
DTSTART;TZID=America/New_York:20290918T123000
DTEND;TZID=America/New_York:20290918T133000
DTSTAMP:20260419T191522
CREATED:20260127T174041Z
LAST-MODIFIED:20260127T174041Z
UID:10000855-1884429000-1884432600@dev.mcbridelibrary.org
SUMMARY:Books on Wheels—Glen Brook & Evan Owens Apts
DESCRIPTION:
URL:https://dev.mcbridelibrary.org/event/books-on-wheels-glenbrook-evan-owens-apts-2/2029-09-18/
ATTACH;FMTTYPE=image/png:https://dev.mcbridelibrary.org/wp-content/uploads/2024/12/Books-On-Wheels.png
END:VEVENT
BEGIN:VEVENT
DTSTART;TZID=America/New_York:20290920T100000
DTEND;TZID=America/New_York:20290920T140000
DTSTAMP:20260419T191522
CREATED:20260204T201735Z
LAST-MODIFIED:20260204T201735Z
UID:10000917-1884592800-1884607200@dev.mcbridelibrary.org
SUMMARY:CareerLink Bus
DESCRIPTION:
URL:https://dev.mcbridelibrary.org/event/careerlink-bus/2029-09-20/
END:VEVENT
BEGIN:VEVENT
DTSTART;TZID=America/New_York:20290920T123000
DTEND;TZID=America/New_York:20290920T133000
DTSTAMP:20260419T191522
CREATED:20251227T211022Z
LAST-MODIFIED:20251227T211022Z
UID:10000602-1884601800-1884605400@dev.mcbridelibrary.org
SUMMARY:Books on Wheels—Celebration Villa
DESCRIPTION:
URL:https://dev.mcbridelibrary.org/event/books-on-wheels-celebration-villa-2/2029-09-20/
ATTACH;FMTTYPE=image/png:https://dev.mcbridelibrary.org/wp-content/uploads/2024/12/Books-On-Wheels.png
END:VEVENT
BEGIN:VEVENT
DTSTART;TZID=America/New_York:20290921T130000
DTEND;TZID=America/New_York:20290921T140000
DTSTAMP:20260419T191522
CREATED:20260126T221629Z
LAST-MODIFIED:20260126T221629Z
UID:10000788-1884690000-1884693600@dev.mcbridelibrary.org
SUMMARY:Genealogy Workshop
DESCRIPTION:The McBride genealogy group meets every second Friday at 1:00 pm. All are welcome.
URL:https://dev.mcbridelibrary.org/event/genealogy-workshop-2-2/2029-09-21/
LOCATION:Genealogy Room\, first floor
ATTACH;FMTTYPE=image/jpeg:https://dev.mcbridelibrary.org/wp-content/uploads/2024/12/genealogy-logo.jpg
END:VEVENT
BEGIN:VEVENT
DTSTART;TZID=America/New_York:20290927T123000
DTEND;TZID=America/New_York:20290927T133000
DTSTAMP:20260419T191522
CREATED:20251227T204913Z
LAST-MODIFIED:20251227T204913Z
UID:10000468-1885206600-1885210200@dev.mcbridelibrary.org
SUMMARY:Books on Wheels—Rosewood Apts
DESCRIPTION:
URL:https://dev.mcbridelibrary.org/event/books-on-wheels-rosewood-apts/2029-09-27/
ATTACH;FMTTYPE=image/png:https://dev.mcbridelibrary.org/wp-content/uploads/2024/12/Books-On-Wheels.png
END:VEVENT
BEGIN:VEVENT
DTSTART;TZID=America/New_York:20291004T123000
DTEND;TZID=America/New_York:20291004T133000
DTSTAMP:20260419T191522
CREATED:20251227T211022Z
LAST-MODIFIED:20251227T211022Z
UID:10000603-1885811400-1885815000@dev.mcbridelibrary.org
SUMMARY:Books on Wheels—Celebration Villa
DESCRIPTION:
URL:https://dev.mcbridelibrary.org/event/books-on-wheels-celebration-villa-2/2029-10-04/
ATTACH;FMTTYPE=image/png:https://dev.mcbridelibrary.org/wp-content/uploads/2024/12/Books-On-Wheels.png
END:VEVENT
BEGIN:VEVENT
DTSTART;TZID=America/New_York:20291006T110000
DTEND;TZID=America/New_York:20291006T130000
DTSTAMP:20260419T191522
CREATED:20251227T215930Z
LAST-MODIFIED:20251227T215930Z
UID:10000722-1885978800-1885986000@dev.mcbridelibrary.org
SUMMARY:Silent Book Club
DESCRIPTION:For adults (18 & up) \nFor teens (13-17) \nBecome a member of the McBride chapter of Silent Book Club®.  Check it out at silentbook.club and join readers in over 1\,000 chapters worldwide. “At Silent Book Club® there’s no assigned reading. SBC members gather in bars\, cafés\, bookstores\, libraries\, and online to read together in quiet camaraderie.”
URL:https://dev.mcbridelibrary.org/event/silent-book-club-3/2029-10-06/
LOCATION:Reading Lounge\, main floor
ATTACH;FMTTYPE=image/png:https://dev.mcbridelibrary.org/wp-content/uploads/2024/12/SBC.png
END:VEVENT
BEGIN:VEVENT
DTSTART;TZID=America/New_York:20291011T123000
DTEND;TZID=America/New_York:20291011T133000
DTSTAMP:20260419T191522
CREATED:20251227T204913Z
LAST-MODIFIED:20251227T204913Z
UID:10000469-1886416200-1886419800@dev.mcbridelibrary.org
SUMMARY:Books on Wheels—Rosewood Apts
DESCRIPTION:
URL:https://dev.mcbridelibrary.org/event/books-on-wheels-rosewood-apts/2029-10-11/
ATTACH;FMTTYPE=image/png:https://dev.mcbridelibrary.org/wp-content/uploads/2024/12/Books-On-Wheels.png
END:VEVENT
BEGIN:VEVENT
DTSTART;TZID=America/New_York:20291016T123000
DTEND;TZID=America/New_York:20291016T133000
DTSTAMP:20260419T191522
CREATED:20260127T174041Z
LAST-MODIFIED:20260127T174041Z
UID:10000856-1886848200-1886851800@dev.mcbridelibrary.org
SUMMARY:Books on Wheels—Glen Brook & Evan Owens Apts
DESCRIPTION:
URL:https://dev.mcbridelibrary.org/event/books-on-wheels-glenbrook-evan-owens-apts-2/2029-10-16/
ATTACH;FMTTYPE=image/png:https://dev.mcbridelibrary.org/wp-content/uploads/2024/12/Books-On-Wheels.png
END:VEVENT
BEGIN:VEVENT
DTSTART;TZID=America/New_York:20291018T100000
DTEND;TZID=America/New_York:20291018T140000
DTSTAMP:20260419T191522
CREATED:20260204T201735Z
LAST-MODIFIED:20260204T201735Z
UID:10000918-1887012000-1887026400@dev.mcbridelibrary.org
SUMMARY:CareerLink Bus
DESCRIPTION:
URL:https://dev.mcbridelibrary.org/event/careerlink-bus/2029-10-18/
END:VEVENT
BEGIN:VEVENT
DTSTART;TZID=America/New_York:20291018T123000
DTEND;TZID=America/New_York:20291018T133000
DTSTAMP:20260419T191522
CREATED:20251227T211022Z
LAST-MODIFIED:20251227T211022Z
UID:10000604-1887021000-1887024600@dev.mcbridelibrary.org
SUMMARY:Books on Wheels—Celebration Villa
DESCRIPTION:
URL:https://dev.mcbridelibrary.org/event/books-on-wheels-celebration-villa-2/2029-10-18/
ATTACH;FMTTYPE=image/png:https://dev.mcbridelibrary.org/wp-content/uploads/2024/12/Books-On-Wheels.png
END:VEVENT
BEGIN:VEVENT
DTSTART;TZID=America/New_York:20291019T130000
DTEND;TZID=America/New_York:20291019T140000
DTSTAMP:20260419T191522
CREATED:20260126T221629Z
LAST-MODIFIED:20260126T221629Z
UID:10000789-1887109200-1887112800@dev.mcbridelibrary.org
SUMMARY:Genealogy Workshop
DESCRIPTION:The McBride genealogy group meets every second Friday at 1:00 pm. All are welcome.
URL:https://dev.mcbridelibrary.org/event/genealogy-workshop-2-2/2029-10-19/
LOCATION:Genealogy Room\, first floor
ATTACH;FMTTYPE=image/jpeg:https://dev.mcbridelibrary.org/wp-content/uploads/2024/12/genealogy-logo.jpg
END:VEVENT
BEGIN:VEVENT
DTSTART;TZID=America/New_York:20291025T123000
DTEND;TZID=America/New_York:20291025T133000
DTSTAMP:20260419T191522
CREATED:20251227T204913Z
LAST-MODIFIED:20251227T204913Z
UID:10000470-1887625800-1887629400@dev.mcbridelibrary.org
SUMMARY:Books on Wheels—Rosewood Apts
DESCRIPTION:
URL:https://dev.mcbridelibrary.org/event/books-on-wheels-rosewood-apts/2029-10-25/
ATTACH;FMTTYPE=image/png:https://dev.mcbridelibrary.org/wp-content/uploads/2024/12/Books-On-Wheels.png
END:VEVENT
BEGIN:VEVENT
DTSTART;TZID=America/New_York:20291101T123000
DTEND;TZID=America/New_York:20291101T133000
DTSTAMP:20260419T191522
CREATED:20251227T211022Z
LAST-MODIFIED:20251227T211022Z
UID:10000605-1888230600-1888234200@dev.mcbridelibrary.org
SUMMARY:Books on Wheels—Celebration Villa
DESCRIPTION:
URL:https://dev.mcbridelibrary.org/event/books-on-wheels-celebration-villa-2/2029-11-01/
ATTACH;FMTTYPE=image/png:https://dev.mcbridelibrary.org/wp-content/uploads/2024/12/Books-On-Wheels.png
END:VEVENT
BEGIN:VEVENT
DTSTART;TZID=America/New_York:20291103T110000
DTEND;TZID=America/New_York:20291103T130000
DTSTAMP:20260419T191522
CREATED:20251227T215930Z
LAST-MODIFIED:20251227T215930Z
UID:10000723-1888398000-1888405200@dev.mcbridelibrary.org
SUMMARY:Silent Book Club
DESCRIPTION:For adults (18 & up) \nFor teens (13-17) \nBecome a member of the McBride chapter of Silent Book Club®.  Check it out at silentbook.club and join readers in over 1\,000 chapters worldwide. “At Silent Book Club® there’s no assigned reading. SBC members gather in bars\, cafés\, bookstores\, libraries\, and online to read together in quiet camaraderie.”
URL:https://dev.mcbridelibrary.org/event/silent-book-club-3/2029-11-03/
LOCATION:Reading Lounge\, main floor
ATTACH;FMTTYPE=image/png:https://dev.mcbridelibrary.org/wp-content/uploads/2024/12/SBC.png
END:VEVENT
BEGIN:VEVENT
DTSTART;TZID=America/New_York:20291108T123000
DTEND;TZID=America/New_York:20291108T133000
DTSTAMP:20260419T191522
CREATED:20251227T204913Z
LAST-MODIFIED:20251227T204913Z
UID:10000471-1888835400-1888839000@dev.mcbridelibrary.org
SUMMARY:Books on Wheels—Rosewood Apts
DESCRIPTION:
URL:https://dev.mcbridelibrary.org/event/books-on-wheels-rosewood-apts/2029-11-08/
ATTACH;FMTTYPE=image/png:https://dev.mcbridelibrary.org/wp-content/uploads/2024/12/Books-On-Wheels.png
END:VEVENT
BEGIN:VEVENT
DTSTART;TZID=America/New_York:20291113T123000
DTEND;TZID=America/New_York:20291113T133000
DTSTAMP:20260419T191522
CREATED:20260127T174041Z
LAST-MODIFIED:20260127T174041Z
UID:10000857-1889267400-1889271000@dev.mcbridelibrary.org
SUMMARY:Books on Wheels—Glen Brook & Evan Owens Apts
DESCRIPTION:
URL:https://dev.mcbridelibrary.org/event/books-on-wheels-glenbrook-evan-owens-apts-2/2029-11-13/
ATTACH;FMTTYPE=image/png:https://dev.mcbridelibrary.org/wp-content/uploads/2024/12/Books-On-Wheels.png
END:VEVENT
END:VCALENDAR