BEGIN:VCALENDAR
VERSION:2.0
PRODID:-//McBride Memorial Library - ECPv6.15.15//NONSGML v1.0//EN
CALSCALE:GREGORIAN
METHOD:PUBLISH
X-WR-CALNAME:McBride Memorial Library
X-ORIGINAL-URL:https://dev.mcbridelibrary.org
X-WR-CALDESC:Events for McBride Memorial Library
REFRESH-INTERVAL;VALUE=DURATION:PT1H
X-Robots-Tag:noindex
X-PUBLISHED-TTL:PT1H
BEGIN:VTIMEZONE
TZID:UTC
BEGIN:STANDARD
TZOFFSETFROM:+0000
TZOFFSETTO:+0000
TZNAME:UTC
DTSTART:20230101T000000
END:STANDARD
END:VTIMEZONE
BEGIN:VEVENT
DTSTART;TZID=UTC:20250401T183000
DTEND;TZID=UTC:20250401T193000
DTSTAMP:20260419T080147
CREATED:20250219T233748Z
LAST-MODIFIED:20250219T233748Z
UID:10000045-1743532200-1743535800@dev.mcbridelibrary.org
SUMMARY:The Healthcare Game
DESCRIPTION:The Healthcare Game: Learn How to Play \nCommunity medical advocate Bette Grey teaches free classes offering instruction and useful tips for navigating health insurance and healthcare. \nTuesdays\, March 11-April 15 \nNo registration required\, attend all six classes or drop in any week at your convenience.
URL:https://dev.mcbridelibrary.org/event/the-healthcare-game/2025-04-01/
LOCATION:Community Room\, second floor
ATTACH;FMTTYPE=image/png:https://dev.mcbridelibrary.org/wp-content/uploads/2025/02/healthcare-logo.png
END:VEVENT
BEGIN:VEVENT
DTSTART;TZID=UTC:20250327T123000
DTEND;TZID=UTC:20250327T133000
DTSTAMP:20260419T080147
CREATED:20241210T064537Z
LAST-MODIFIED:20241210T064537Z
UID:10000017-1743078600-1743082200@dev.mcbridelibrary.org
SUMMARY:Books on Wheels—Celebration Villa
DESCRIPTION:
URL:https://dev.mcbridelibrary.org/event/books-on-wheels-celebration-villa/2025-03-27/
ATTACH;FMTTYPE=image/png:https://dev.mcbridelibrary.org/wp-content/uploads/2024/12/Books-On-Wheels.png
END:VEVENT
BEGIN:VEVENT
DTSTART;TZID=UTC:20250325T183000
DTEND;TZID=UTC:20250325T193000
DTSTAMP:20260419T080147
CREATED:20250219T233748Z
LAST-MODIFIED:20250219T233748Z
UID:10000044-1742927400-1742931000@dev.mcbridelibrary.org
SUMMARY:The Healthcare Game
DESCRIPTION:The Healthcare Game: Learn How to Play \nCommunity medical advocate Bette Grey teaches free classes offering instruction and useful tips for navigating health insurance and healthcare. \nTuesdays\, March 11-April 15 \nNo registration required\, attend all six classes or drop in any week at your convenience.
URL:https://dev.mcbridelibrary.org/event/the-healthcare-game/2025-03-25/
LOCATION:Community Room\, second floor
ATTACH;FMTTYPE=image/png:https://dev.mcbridelibrary.org/wp-content/uploads/2025/02/healthcare-logo.png
END:VEVENT
BEGIN:VEVENT
DTSTART;TZID=UTC:20250318T183000
DTEND;TZID=UTC:20250318T193000
DTSTAMP:20260419T080147
CREATED:20250219T233748Z
LAST-MODIFIED:20250219T233748Z
UID:10000043-1742322600-1742326200@dev.mcbridelibrary.org
SUMMARY:The Healthcare Game
DESCRIPTION:The Healthcare Game: Learn How to Play \nCommunity medical advocate Bette Grey teaches free classes offering instruction and useful tips for navigating health insurance and healthcare. \nTuesdays\, March 11-April 15 \nNo registration required\, attend all six classes or drop in any week at your convenience.
URL:https://dev.mcbridelibrary.org/event/the-healthcare-game/2025-03-18/
LOCATION:Community Room\, second floor
ATTACH;FMTTYPE=image/png:https://dev.mcbridelibrary.org/wp-content/uploads/2025/02/healthcare-logo.png
END:VEVENT
BEGIN:VEVENT
DTSTART;TZID=UTC:20250313T123000
DTEND;TZID=UTC:20250313T133000
DTSTAMP:20260419T080147
CREATED:20241210T064537Z
LAST-MODIFIED:20241210T064537Z
UID:10000016-1741869000-1741872600@dev.mcbridelibrary.org
SUMMARY:Books on Wheels—Celebration Villa
DESCRIPTION:
URL:https://dev.mcbridelibrary.org/event/books-on-wheels-celebration-villa/2025-03-13/
ATTACH;FMTTYPE=image/png:https://dev.mcbridelibrary.org/wp-content/uploads/2024/12/Books-On-Wheels.png
END:VEVENT
BEGIN:VEVENT
DTSTART;TZID=UTC:20250312T160000
DTEND;TZID=UTC:20250312T180000
DTSTAMP:20260419T080147
CREATED:20241210T071304Z
LAST-MODIFIED:20241210T071304Z
UID:10000038-1741795200-1741802400@dev.mcbridelibrary.org
SUMMARY:Youth Art Reception
DESCRIPTION:View Berwick’s elementary students’ art exhibit while enjoying refreshments and good company.
URL:https://dev.mcbridelibrary.org/event/youth-art-reception/
LOCATION:McBride Memorial Library\, 500 N. Market Street\, Berwick\, PA\, 18603\, United States
ATTACH;FMTTYPE=image/png:https://dev.mcbridelibrary.org/wp-content/uploads/2025/02/youth-art-month-logo.png
END:VEVENT
BEGIN:VEVENT
DTSTART;TZID=UTC:20250311T183000
DTEND;TZID=UTC:20250311T193000
DTSTAMP:20260419T080147
CREATED:20250219T233748Z
LAST-MODIFIED:20250219T233748Z
UID:10000042-1741717800-1741721400@dev.mcbridelibrary.org
SUMMARY:The Healthcare Game
DESCRIPTION:The Healthcare Game: Learn How to Play \nCommunity medical advocate Bette Grey teaches free classes offering instruction and useful tips for navigating health insurance and healthcare. \nTuesdays\, March 11-April 15 \nNo registration required\, attend all six classes or drop in any week at your convenience.
URL:https://dev.mcbridelibrary.org/event/the-healthcare-game/2025-03-11/
LOCATION:Community Room\, second floor
ATTACH;FMTTYPE=image/png:https://dev.mcbridelibrary.org/wp-content/uploads/2025/02/healthcare-logo.png
END:VEVENT
BEGIN:VEVENT
DTSTART;TZID=UTC:20250309T130000
DTEND;TZID=UTC:20250309T170000
DTSTAMP:20260419T080147
CREATED:20241212T215401Z
LAST-MODIFIED:20241212T215401Z
UID:10000041-1741525200-1741539600@dev.mcbridelibrary.org
SUMMARY:Mini Golf at the Library
DESCRIPTION:Enjoy the library’s annual fun mini golf days and fundraising event. Play putt-putt on all three floors of the library! \nSponsored by Service First Credit Union. \nCost: $5.00 at the door \n  \nMini Golf takes place Saturday 5–9pm and Sunday 1–5pm. \nSee you there!
URL:https://dev.mcbridelibrary.org/event/mini-golf-at-the-library/
LOCATION:McBride Memorial Library\, 500 N. Market Street\, Berwick\, PA\, 18603\, United States
ATTACH;FMTTYPE=image/png:https://dev.mcbridelibrary.org/wp-content/uploads/2024/12/mini-golf.png
END:VEVENT
BEGIN:VEVENT
DTSTART;TZID=UTC:20250308T170000
DTEND;TZID=UTC:20250308T210000
DTSTAMP:20260419T080147
CREATED:20241210T073036Z
LAST-MODIFIED:20241210T073036Z
UID:10000039-1741453200-1741467600@dev.mcbridelibrary.org
SUMMARY:Mini Golf at the Library
DESCRIPTION:Enjoy the library’s annual fun mini golf days and fundraising event. Play putt-putt on all three floors of the library! \nSponsored by Service First Credit Union. \nCost: $5.00 at the door \n  \nMini Golf takes place Saturday 5–9pm and Sunday 1–5pm. \nSee you there!
URL:https://dev.mcbridelibrary.org/event/mini-golf-in-the-library/
LOCATION:McBride Memorial Library\, 500 N. Market Street\, Berwick\, PA\, 18603\, United States
ATTACH;FMTTYPE=image/png:https://dev.mcbridelibrary.org/wp-content/uploads/2024/12/mini-golf.png
END:VEVENT
BEGIN:VEVENT
DTSTART;VALUE=DATE:20250303
DTEND;VALUE=DATE:20250401
DTSTAMP:20260419T080147
CREATED:20241210T070926Z
LAST-MODIFIED:20241210T070926Z
UID:10000037-1740960000-1743465599@dev.mcbridelibrary.org
SUMMARY:Youth Art Month Children's Art Exhibit
DESCRIPTION:Student art from East Berwick Elementary and West Berwick Elementary schools will be on display at the library during the month of March. \nView this joyful exhibit of children’s art throughout the month\, during any time that the library is open. \nJust drop in! \n 
URL:https://dev.mcbridelibrary.org/event/youth-art-month/
LOCATION:McBride Memorial Library\, 500 N. Market Street\, Berwick\, PA\, 18603\, United States
ATTACH;FMTTYPE=image/png:https://dev.mcbridelibrary.org/wp-content/uploads/2025/02/youth-art-month-logo.png
END:VEVENT
BEGIN:VEVENT
DTSTART;VALUE=DATE:20250303
DTEND;VALUE=DATE:20250304
DTSTAMP:20260419T080147
CREATED:20241210T073614Z
LAST-MODIFIED:20241210T073614Z
UID:10000040-1740960000-1741046399@dev.mcbridelibrary.org
SUMMARY:Kids Kits
DESCRIPTION:New Kids Kits available starting today until the last day of the month\, or until supplies last. \nPick up a free craft kit for at-home learning and entertainment starting the first Monday of each month. Kits contain instructions and supplies to make an item to occupy hands and delight imaginations. Dozens of families across the community will be participating in the same project! Display your completed projects in home windows and share photos to info@mcbridelibrary.org and/or post to social media #McBrideKidsKits.
URL:https://dev.mcbridelibrary.org/event/kids-kits/2025-03-03/
LOCATION:Children’s Help Desk
ATTACH;FMTTYPE=image/jpeg:https://dev.mcbridelibrary.org/wp-content/uploads/2024/12/kids-kits-scaled-1.jpg
END:VEVENT
BEGIN:VEVENT
DTSTART;TZID=UTC:20250227T123000
DTEND;TZID=UTC:20250227T133000
DTSTAMP:20260419T080147
CREATED:20241210T064537Z
LAST-MODIFIED:20241210T064537Z
UID:10000015-1740659400-1740663000@dev.mcbridelibrary.org
SUMMARY:Books on Wheels—Celebration Villa
DESCRIPTION:
URL:https://dev.mcbridelibrary.org/event/books-on-wheels-celebration-villa/2025-02-27/
ATTACH;FMTTYPE=image/png:https://dev.mcbridelibrary.org/wp-content/uploads/2024/12/Books-On-Wheels.png
END:VEVENT
BEGIN:VEVENT
DTSTART;VALUE=DATE:20250203
DTEND;VALUE=DATE:20250204
DTSTAMP:20260419T080147
CREATED:20260205T025158Z
LAST-MODIFIED:20260205T025158Z
UID:10000936-1738540800-1738627199@dev.mcbridelibrary.org
SUMMARY:Kids Kits
DESCRIPTION:New Kids Kits available starting today until the last day of the month\, or until supplies last. \nPick up a free craft kit for at-home learning and entertainment starting the first Monday of each month. Kits contain instructions and supplies to make an item to occupy hands and delight imaginations. Dozens of families across the community will be participating in the same project! Display your completed projects in home windows and share photos to info@mcbridelibrary.org and/or post to social media #McBrideKidsKits.
URL:https://dev.mcbridelibrary.org/event/kids-kits-6/
LOCATION:Children’s Help Desk
ATTACH;FMTTYPE=image/jpeg:https://dev.mcbridelibrary.org/wp-content/uploads/2024/12/kids-kits-scaled-1.jpg
END:VEVENT
BEGIN:VEVENT
DTSTART;TZID=UTC:20241030T153000
DTEND;TZID=UTC:20241030T163000
DTSTAMP:20260419T080147
CREATED:20240911T233734Z
LAST-MODIFIED:20240911T233734Z
UID:10000011-1730302200-1730305800@dev.mcbridelibrary.org
SUMMARY:Play & Learn
DESCRIPTION:For adults (18 & up) \nFor preschoolers (birth-4) \nMcBride is proud to be a Family Place LibraryTM. Parent-Child Workshops offer a five-week program to parents and their newborn–3-year-old children featuring weekly themes: Early Literacy; Speech\, Hearing\, & Language Development; Early Child Development; Nutrition; and Music & Movement. The community room is set up as a hands-on playroom! A community expert will be on hand every week to share information about the vast resources available to families in our area.
URL:https://dev.mcbridelibrary.org/event/play-learn-2024-10-16/
LOCATION:Community Room\, second floor
END:VEVENT
BEGIN:VEVENT
DTSTART;TZID=UTC:20241030T153000
DTEND;TZID=UTC:20241030T163000
DTSTAMP:20260419T080147
CREATED:20240911T233734Z
LAST-MODIFIED:20240911T233734Z
UID:10000013-1730302200-1730305800@dev.mcbridelibrary.org
SUMMARY:Play & Learn
DESCRIPTION:For adults (18 & up) \nFor preschoolers (birth-4) \nMcBride is proud to be a Family Place LibraryTM. Parent-Child Workshops offer a five-week program to parents and their newborn–3-year-old children featuring weekly themes: Early Literacy; Speech\, Hearing\, & Language Development; Early Child Development; Nutrition; and Music & Movement. The community room is set up as a hands-on playroom! A community expert will be on hand every week to share information about the vast resources available to families in our area.
URL:https://dev.mcbridelibrary.org/event/play-learn-2024-10-23/
LOCATION:Community Room\, second floor
END:VEVENT
BEGIN:VEVENT
DTSTART;TZID=UTC:20241030T153000
DTEND;TZID=UTC:20241030T163000
DTSTAMP:20260419T080147
CREATED:20240911T233734Z
LAST-MODIFIED:20240911T233734Z
UID:10000014-1730302200-1730305800@dev.mcbridelibrary.org
SUMMARY:Play & Learn
DESCRIPTION:For adults (18 & up) \nFor preschoolers (birth-4) \nMcBride is proud to be a Family Place LibraryTM. Parent-Child Workshops offer a five-week program to parents and their newborn–3-year-old children featuring weekly themes: Early Literacy; Speech\, Hearing\, & Language Development; Early Child Development; Nutrition; and Music & Movement. The community room is set up as a hands-on playroom! A community expert will be on hand every week to share information about the vast resources available to families in our area.
URL:https://dev.mcbridelibrary.org/event/play-learn-2024-10-30/
LOCATION:Community Room\, second floor
END:VEVENT
BEGIN:VEVENT
DTSTART;TZID=UTC:20241030T153000
DTEND;TZID=UTC:20241030T163000
DTSTAMP:20260419T080147
CREATED:20240911T233734Z
LAST-MODIFIED:20240911T233734Z
UID:10000008-1730302200-1730305800@dev.mcbridelibrary.org
SUMMARY:Play & Learn
DESCRIPTION:For adults (18 & up) \nFor preschoolers (birth-4) \nMcBride is proud to be a Family Place LibraryTM. Parent-Child Workshops offer a five-week program to parents and their newborn–3-year-old children featuring weekly themes: Early Literacy; Speech\, Hearing\, & Language Development; Early Child Development; Nutrition; and Music & Movement. The community room is set up as a hands-on playroom! A community expert will be on hand every week to share information about the vast resources available to families in our area.
URL:https://dev.mcbridelibrary.org/event/play-learn-2024-10-09/
LOCATION:Community Room\, second floor
END:VEVENT
BEGIN:VEVENT
DTSTART;TZID=UTC:20241023T153000
DTEND;TZID=UTC:20241023T163000
DTSTAMP:20260419T080147
CREATED:20240911T233734Z
LAST-MODIFIED:20240911T233734Z
UID:10000010-1729697400-1729701000@dev.mcbridelibrary.org
SUMMARY:Play & Learn
DESCRIPTION:For adults (18 & up) \nFor preschoolers (birth-4) \nMcBride is proud to be a Family Place LibraryTM. Parent-Child Workshops offer a five-week program to parents and their newborn–3-year-old children featuring weekly themes: Early Literacy; Speech\, Hearing\, & Language Development; Early Child Development; Nutrition; and Music & Movement. The community room is set up as a hands-on playroom! A community expert will be on hand every week to share information about the vast resources available to families in our area.
URL:https://dev.mcbridelibrary.org/event/play-learn-2024-10-16/
LOCATION:Community Room\, second floor
END:VEVENT
BEGIN:VEVENT
DTSTART;TZID=UTC:20241023T153000
DTEND;TZID=UTC:20241023T163000
DTSTAMP:20260419T080147
CREATED:20240911T233734Z
LAST-MODIFIED:20240911T233734Z
UID:10000012-1729697400-1729701000@dev.mcbridelibrary.org
SUMMARY:Play & Learn
DESCRIPTION:For adults (18 & up) \nFor preschoolers (birth-4) \nMcBride is proud to be a Family Place LibraryTM. Parent-Child Workshops offer a five-week program to parents and their newborn–3-year-old children featuring weekly themes: Early Literacy; Speech\, Hearing\, & Language Development; Early Child Development; Nutrition; and Music & Movement. The community room is set up as a hands-on playroom! A community expert will be on hand every week to share information about the vast resources available to families in our area.
URL:https://dev.mcbridelibrary.org/event/play-learn-2024-10-23/
LOCATION:Community Room\, second floor
END:VEVENT
BEGIN:VEVENT
DTSTART;TZID=UTC:20241023T153000
DTEND;TZID=UTC:20241023T163000
DTSTAMP:20260419T080147
CREATED:20240911T233734Z
LAST-MODIFIED:20240911T233734Z
UID:10000007-1729697400-1729701000@dev.mcbridelibrary.org
SUMMARY:Play & Learn
DESCRIPTION:For adults (18 & up) \nFor preschoolers (birth-4) \nMcBride is proud to be a Family Place LibraryTM. Parent-Child Workshops offer a five-week program to parents and their newborn–3-year-old children featuring weekly themes: Early Literacy; Speech\, Hearing\, & Language Development; Early Child Development; Nutrition; and Music & Movement. The community room is set up as a hands-on playroom! A community expert will be on hand every week to share information about the vast resources available to families in our area.
URL:https://dev.mcbridelibrary.org/event/play-learn-2024-10-09/
LOCATION:Community Room\, second floor
END:VEVENT
BEGIN:VEVENT
DTSTART;TZID=UTC:20241016T153000
DTEND;TZID=UTC:20241016T163000
DTSTAMP:20260419T080147
CREATED:20240911T233734Z
LAST-MODIFIED:20240911T233734Z
UID:10000009-1729092600-1729096200@dev.mcbridelibrary.org
SUMMARY:Play & Learn
DESCRIPTION:For adults (18 & up) \nFor preschoolers (birth-4) \nMcBride is proud to be a Family Place LibraryTM. Parent-Child Workshops offer a five-week program to parents and their newborn–3-year-old children featuring weekly themes: Early Literacy; Speech\, Hearing\, & Language Development; Early Child Development; Nutrition; and Music & Movement. The community room is set up as a hands-on playroom! A community expert will be on hand every week to share information about the vast resources available to families in our area.
URL:https://dev.mcbridelibrary.org/event/play-learn-2024-10-16/
LOCATION:Community Room\, second floor
END:VEVENT
BEGIN:VEVENT
DTSTART;TZID=UTC:20241016T153000
DTEND;TZID=UTC:20241016T163000
DTSTAMP:20260419T080147
CREATED:20240911T233734Z
LAST-MODIFIED:20240911T233734Z
UID:10000006-1729092600-1729096200@dev.mcbridelibrary.org
SUMMARY:Play & Learn
DESCRIPTION:For adults (18 & up) \nFor preschoolers (birth-4) \nMcBride is proud to be a Family Place LibraryTM. Parent-Child Workshops offer a five-week program to parents and their newborn–3-year-old children featuring weekly themes: Early Literacy; Speech\, Hearing\, & Language Development; Early Child Development; Nutrition; and Music & Movement. The community room is set up as a hands-on playroom! A community expert will be on hand every week to share information about the vast resources available to families in our area.
URL:https://dev.mcbridelibrary.org/event/play-learn-2024-10-09/
LOCATION:Community Room\, second floor
END:VEVENT
BEGIN:VEVENT
DTSTART;TZID=UTC:20241009T153000
DTEND;TZID=UTC:20241009T163000
DTSTAMP:20260419T080147
CREATED:20240911T233734Z
LAST-MODIFIED:20240911T233734Z
UID:10000005-1728487800-1728491400@dev.mcbridelibrary.org
SUMMARY:Play & Learn
DESCRIPTION:For adults (18 & up) \nFor preschoolers (birth-4) \nMcBride is proud to be a Family Place LibraryTM. Parent-Child Workshops offer a five-week program to parents and their newborn–3-year-old children featuring weekly themes: Early Literacy; Speech\, Hearing\, & Language Development; Early Child Development; Nutrition; and Music & Movement. The community room is set up as a hands-on playroom! A community expert will be on hand every week to share information about the vast resources available to families in our area.
URL:https://dev.mcbridelibrary.org/event/play-learn-2024-10-09/
LOCATION:Community Room\, second floor
END:VEVENT
END:VCALENDAR