BEGIN:VCALENDAR
VERSION:2.0
PRODID:-//McBride Memorial Library - ECPv6.15.15//NONSGML v1.0//EN
CALSCALE:GREGORIAN
METHOD:PUBLISH
X-ORIGINAL-URL:https://dev.mcbridelibrary.org
X-WR-CALDESC:Events for McBride Memorial Library
REFRESH-INTERVAL;VALUE=DURATION:PT1H
X-Robots-Tag:noindex
X-PUBLISHED-TTL:PT1H
BEGIN:VTIMEZONE
TZID:America/New_York
BEGIN:DAYLIGHT
TZOFFSETFROM:-0500
TZOFFSETTO:-0400
TZNAME:EDT
DTSTART:20290311T070000
END:DAYLIGHT
BEGIN:STANDARD
TZOFFSETFROM:-0400
TZOFFSETTO:-0500
TZNAME:EST
DTSTART:20291104T060000
END:STANDARD
BEGIN:DAYLIGHT
TZOFFSETFROM:-0500
TZOFFSETTO:-0400
TZNAME:EDT
DTSTART:20300310T070000
END:DAYLIGHT
BEGIN:STANDARD
TZOFFSETFROM:-0400
TZOFFSETTO:-0500
TZNAME:EST
DTSTART:20301103T060000
END:STANDARD
BEGIN:DAYLIGHT
TZOFFSETFROM:-0500
TZOFFSETTO:-0400
TZNAME:EDT
DTSTART:20310309T070000
END:DAYLIGHT
BEGIN:STANDARD
TZOFFSETFROM:-0400
TZOFFSETTO:-0500
TZNAME:EST
DTSTART:20311102T060000
END:STANDARD
END:VTIMEZONE
BEGIN:VEVENT
DTSTART;TZID=America/New_York:20300711T123000
DTEND;TZID=America/New_York:20300711T133000
DTSTAMP:20260420T160900
CREATED:20251227T211022Z
LAST-MODIFIED:20251227T211022Z
UID:10000623-1910003400-1910007000@dev.mcbridelibrary.org
SUMMARY:Books on Wheels—Celebration Villa
DESCRIPTION:
URL:https://dev.mcbridelibrary.org/event/books-on-wheels-celebration-villa-2/2030-07-11/
ATTACH;FMTTYPE=image/png:https://dev.mcbridelibrary.org/wp-content/uploads/2024/12/Books-On-Wheels.png
END:VEVENT
BEGIN:VEVENT
DTSTART;TZID=America/New_York:20300718T100000
DTEND;TZID=America/New_York:20300718T140000
DTSTAMP:20260420T160900
CREATED:20260204T201735Z
LAST-MODIFIED:20260204T201735Z
UID:10000927-1910599200-1910613600@dev.mcbridelibrary.org
SUMMARY:CareerLink Bus
DESCRIPTION:
URL:https://dev.mcbridelibrary.org/event/careerlink-bus/2030-07-18/
END:VEVENT
BEGIN:VEVENT
DTSTART;TZID=America/New_York:20300718T123000
DTEND;TZID=America/New_York:20300718T133000
DTSTAMP:20260420T160900
CREATED:20251227T204913Z
LAST-MODIFIED:20251227T204913Z
UID:10000489-1910608200-1910611800@dev.mcbridelibrary.org
SUMMARY:Books on Wheels—Rosewood Apts
DESCRIPTION:
URL:https://dev.mcbridelibrary.org/event/books-on-wheels-rosewood-apts/2030-07-18/
ATTACH;FMTTYPE=image/png:https://dev.mcbridelibrary.org/wp-content/uploads/2024/12/Books-On-Wheels.png
END:VEVENT
BEGIN:VEVENT
DTSTART;TZID=America/New_York:20300719T130000
DTEND;TZID=America/New_York:20300719T140000
DTSTAMP:20260420T160900
CREATED:20260126T221629Z
LAST-MODIFIED:20260126T221629Z
UID:10000798-1910696400-1910700000@dev.mcbridelibrary.org
SUMMARY:Genealogy Workshop
DESCRIPTION:The McBride genealogy group meets every second Friday at 1:00 pm. All are welcome.
URL:https://dev.mcbridelibrary.org/event/genealogy-workshop-2-2/2030-07-19/
LOCATION:Genealogy Room\, first floor
ATTACH;FMTTYPE=image/jpeg:https://dev.mcbridelibrary.org/wp-content/uploads/2024/12/genealogy-logo.jpg
END:VEVENT
BEGIN:VEVENT
DTSTART;TZID=America/New_York:20300723T123000
DTEND;TZID=America/New_York:20300723T133000
DTSTAMP:20260420T160900
CREATED:20260127T174041Z
LAST-MODIFIED:20260127T174041Z
UID:10000866-1911040200-1911043800@dev.mcbridelibrary.org
SUMMARY:Books on Wheels—Glen Brook & Evan Owens Apts
DESCRIPTION:
URL:https://dev.mcbridelibrary.org/event/books-on-wheels-glenbrook-evan-owens-apts-2/2030-07-23/
ATTACH;FMTTYPE=image/png:https://dev.mcbridelibrary.org/wp-content/uploads/2024/12/Books-On-Wheels.png
END:VEVENT
BEGIN:VEVENT
DTSTART;TZID=America/New_York:20300725T123000
DTEND;TZID=America/New_York:20300725T133000
DTSTAMP:20260420T160900
CREATED:20251227T211022Z
LAST-MODIFIED:20251227T211022Z
UID:10000624-1911213000-1911216600@dev.mcbridelibrary.org
SUMMARY:Books on Wheels—Celebration Villa
DESCRIPTION:
URL:https://dev.mcbridelibrary.org/event/books-on-wheels-celebration-villa-2/2030-07-25/
ATTACH;FMTTYPE=image/png:https://dev.mcbridelibrary.org/wp-content/uploads/2024/12/Books-On-Wheels.png
END:VEVENT
BEGIN:VEVENT
DTSTART;TZID=America/New_York:20300801T123000
DTEND;TZID=America/New_York:20300801T133000
DTSTAMP:20260420T160900
CREATED:20251227T204913Z
LAST-MODIFIED:20251227T204913Z
UID:10000490-1911817800-1911821400@dev.mcbridelibrary.org
SUMMARY:Books on Wheels—Rosewood Apts
DESCRIPTION:
URL:https://dev.mcbridelibrary.org/event/books-on-wheels-rosewood-apts/2030-08-01/
ATTACH;FMTTYPE=image/png:https://dev.mcbridelibrary.org/wp-content/uploads/2024/12/Books-On-Wheels.png
END:VEVENT
BEGIN:VEVENT
DTSTART;TZID=America/New_York:20300803T110000
DTEND;TZID=America/New_York:20300803T130000
DTSTAMP:20260420T160900
CREATED:20251227T215930Z
LAST-MODIFIED:20251227T215930Z
UID:10000732-1911985200-1911992400@dev.mcbridelibrary.org
SUMMARY:Silent Book Club
DESCRIPTION:For adults (18 & up) \nFor teens (13-17) \nBecome a member of the McBride chapter of Silent Book Club®.  Check it out at silentbook.club and join readers in over 1\,000 chapters worldwide. “At Silent Book Club® there’s no assigned reading. SBC members gather in bars\, cafés\, bookstores\, libraries\, and online to read together in quiet camaraderie.”
URL:https://dev.mcbridelibrary.org/event/silent-book-club-3/2030-08-03/
LOCATION:Reading Lounge\, main floor
ATTACH;FMTTYPE=image/png:https://dev.mcbridelibrary.org/wp-content/uploads/2024/12/SBC.png
END:VEVENT
BEGIN:VEVENT
DTSTART;TZID=America/New_York:20300808T123000
DTEND;TZID=America/New_York:20300808T133000
DTSTAMP:20260420T160900
CREATED:20251227T211022Z
LAST-MODIFIED:20251227T211022Z
UID:10000625-1912422600-1912426200@dev.mcbridelibrary.org
SUMMARY:Books on Wheels—Celebration Villa
DESCRIPTION:
URL:https://dev.mcbridelibrary.org/event/books-on-wheels-celebration-villa-2/2030-08-08/
ATTACH;FMTTYPE=image/png:https://dev.mcbridelibrary.org/wp-content/uploads/2024/12/Books-On-Wheels.png
END:VEVENT
BEGIN:VEVENT
DTSTART;TZID=America/New_York:20300815T100000
DTEND;TZID=America/New_York:20300815T140000
DTSTAMP:20260420T160900
CREATED:20260204T201735Z
LAST-MODIFIED:20260204T201735Z
UID:10000928-1913018400-1913032800@dev.mcbridelibrary.org
SUMMARY:CareerLink Bus
DESCRIPTION:
URL:https://dev.mcbridelibrary.org/event/careerlink-bus/2030-08-15/
END:VEVENT
BEGIN:VEVENT
DTSTART;TZID=America/New_York:20300815T123000
DTEND;TZID=America/New_York:20300815T133000
DTSTAMP:20260420T160900
CREATED:20251227T204913Z
LAST-MODIFIED:20251227T204913Z
UID:10000491-1913027400-1913031000@dev.mcbridelibrary.org
SUMMARY:Books on Wheels—Rosewood Apts
DESCRIPTION:
URL:https://dev.mcbridelibrary.org/event/books-on-wheels-rosewood-apts/2030-08-15/
ATTACH;FMTTYPE=image/png:https://dev.mcbridelibrary.org/wp-content/uploads/2024/12/Books-On-Wheels.png
END:VEVENT
BEGIN:VEVENT
DTSTART;TZID=America/New_York:20300816T130000
DTEND;TZID=America/New_York:20300816T140000
DTSTAMP:20260420T160900
CREATED:20260126T221629Z
LAST-MODIFIED:20260126T221629Z
UID:10000799-1913115600-1913119200@dev.mcbridelibrary.org
SUMMARY:Genealogy Workshop
DESCRIPTION:The McBride genealogy group meets every second Friday at 1:00 pm. All are welcome.
URL:https://dev.mcbridelibrary.org/event/genealogy-workshop-2-2/2030-08-16/
LOCATION:Genealogy Room\, first floor
ATTACH;FMTTYPE=image/jpeg:https://dev.mcbridelibrary.org/wp-content/uploads/2024/12/genealogy-logo.jpg
END:VEVENT
BEGIN:VEVENT
DTSTART;TZID=America/New_York:20300820T123000
DTEND;TZID=America/New_York:20300820T133000
DTSTAMP:20260420T160900
CREATED:20260127T174041Z
LAST-MODIFIED:20260127T174041Z
UID:10000867-1913459400-1913463000@dev.mcbridelibrary.org
SUMMARY:Books on Wheels—Glen Brook & Evan Owens Apts
DESCRIPTION:
URL:https://dev.mcbridelibrary.org/event/books-on-wheels-glenbrook-evan-owens-apts-2/2030-08-20/
ATTACH;FMTTYPE=image/png:https://dev.mcbridelibrary.org/wp-content/uploads/2024/12/Books-On-Wheels.png
END:VEVENT
BEGIN:VEVENT
DTSTART;TZID=America/New_York:20300822T123000
DTEND;TZID=America/New_York:20300822T133000
DTSTAMP:20260420T160900
CREATED:20251227T211022Z
LAST-MODIFIED:20251227T211022Z
UID:10000626-1913632200-1913635800@dev.mcbridelibrary.org
SUMMARY:Books on Wheels—Celebration Villa
DESCRIPTION:
URL:https://dev.mcbridelibrary.org/event/books-on-wheels-celebration-villa-2/2030-08-22/
ATTACH;FMTTYPE=image/png:https://dev.mcbridelibrary.org/wp-content/uploads/2024/12/Books-On-Wheels.png
END:VEVENT
BEGIN:VEVENT
DTSTART;TZID=America/New_York:20300829T123000
DTEND;TZID=America/New_York:20300829T133000
DTSTAMP:20260420T160900
CREATED:20251227T204913Z
LAST-MODIFIED:20251227T204913Z
UID:10000492-1914237000-1914240600@dev.mcbridelibrary.org
SUMMARY:Books on Wheels—Rosewood Apts
DESCRIPTION:
URL:https://dev.mcbridelibrary.org/event/books-on-wheels-rosewood-apts/2030-08-29/
ATTACH;FMTTYPE=image/png:https://dev.mcbridelibrary.org/wp-content/uploads/2024/12/Books-On-Wheels.png
END:VEVENT
BEGIN:VEVENT
DTSTART;TZID=America/New_York:20300905T123000
DTEND;TZID=America/New_York:20300905T133000
DTSTAMP:20260420T160900
CREATED:20251227T211022Z
LAST-MODIFIED:20251227T211022Z
UID:10000627-1914841800-1914845400@dev.mcbridelibrary.org
SUMMARY:Books on Wheels—Celebration Villa
DESCRIPTION:
URL:https://dev.mcbridelibrary.org/event/books-on-wheels-celebration-villa-2/2030-09-05/
ATTACH;FMTTYPE=image/png:https://dev.mcbridelibrary.org/wp-content/uploads/2024/12/Books-On-Wheels.png
END:VEVENT
BEGIN:VEVENT
DTSTART;TZID=America/New_York:20300907T110000
DTEND;TZID=America/New_York:20300907T130000
DTSTAMP:20260420T160900
CREATED:20251227T215930Z
LAST-MODIFIED:20251227T215930Z
UID:10000733-1915009200-1915016400@dev.mcbridelibrary.org
SUMMARY:Silent Book Club
DESCRIPTION:For adults (18 & up) \nFor teens (13-17) \nBecome a member of the McBride chapter of Silent Book Club®.  Check it out at silentbook.club and join readers in over 1\,000 chapters worldwide. “At Silent Book Club® there’s no assigned reading. SBC members gather in bars\, cafés\, bookstores\, libraries\, and online to read together in quiet camaraderie.”
URL:https://dev.mcbridelibrary.org/event/silent-book-club-3/2030-09-07/
LOCATION:Reading Lounge\, main floor
ATTACH;FMTTYPE=image/png:https://dev.mcbridelibrary.org/wp-content/uploads/2024/12/SBC.png
END:VEVENT
BEGIN:VEVENT
DTSTART;TZID=America/New_York:20300912T123000
DTEND;TZID=America/New_York:20300912T133000
DTSTAMP:20260420T160900
CREATED:20251227T204913Z
LAST-MODIFIED:20251227T204913Z
UID:10000493-1915446600-1915450200@dev.mcbridelibrary.org
SUMMARY:Books on Wheels—Rosewood Apts
DESCRIPTION:
URL:https://dev.mcbridelibrary.org/event/books-on-wheels-rosewood-apts/2030-09-12/
ATTACH;FMTTYPE=image/png:https://dev.mcbridelibrary.org/wp-content/uploads/2024/12/Books-On-Wheels.png
END:VEVENT
BEGIN:VEVENT
DTSTART;TZID=America/New_York:20300917T123000
DTEND;TZID=America/New_York:20300917T133000
DTSTAMP:20260420T160900
CREATED:20260127T174041Z
LAST-MODIFIED:20260127T174041Z
UID:10000868-1915878600-1915882200@dev.mcbridelibrary.org
SUMMARY:Books on Wheels—Glen Brook & Evan Owens Apts
DESCRIPTION:
URL:https://dev.mcbridelibrary.org/event/books-on-wheels-glenbrook-evan-owens-apts-2/2030-09-17/
ATTACH;FMTTYPE=image/png:https://dev.mcbridelibrary.org/wp-content/uploads/2024/12/Books-On-Wheels.png
END:VEVENT
BEGIN:VEVENT
DTSTART;TZID=America/New_York:20300919T100000
DTEND;TZID=America/New_York:20300919T140000
DTSTAMP:20260420T160900
CREATED:20260204T201735Z
LAST-MODIFIED:20260204T201735Z
UID:10000929-1916042400-1916056800@dev.mcbridelibrary.org
SUMMARY:CareerLink Bus
DESCRIPTION:
URL:https://dev.mcbridelibrary.org/event/careerlink-bus/2030-09-19/
END:VEVENT
BEGIN:VEVENT
DTSTART;TZID=America/New_York:20300919T123000
DTEND;TZID=America/New_York:20300919T133000
DTSTAMP:20260420T160900
CREATED:20251227T211022Z
LAST-MODIFIED:20251227T211022Z
UID:10000628-1916051400-1916055000@dev.mcbridelibrary.org
SUMMARY:Books on Wheels—Celebration Villa
DESCRIPTION:
URL:https://dev.mcbridelibrary.org/event/books-on-wheels-celebration-villa-2/2030-09-19/
ATTACH;FMTTYPE=image/png:https://dev.mcbridelibrary.org/wp-content/uploads/2024/12/Books-On-Wheels.png
END:VEVENT
BEGIN:VEVENT
DTSTART;TZID=America/New_York:20300920T130000
DTEND;TZID=America/New_York:20300920T140000
DTSTAMP:20260420T160900
CREATED:20260126T221629Z
LAST-MODIFIED:20260126T221629Z
UID:10000800-1916139600-1916143200@dev.mcbridelibrary.org
SUMMARY:Genealogy Workshop
DESCRIPTION:The McBride genealogy group meets every second Friday at 1:00 pm. All are welcome.
URL:https://dev.mcbridelibrary.org/event/genealogy-workshop-2-2/2030-09-20/
LOCATION:Genealogy Room\, first floor
ATTACH;FMTTYPE=image/jpeg:https://dev.mcbridelibrary.org/wp-content/uploads/2024/12/genealogy-logo.jpg
END:VEVENT
BEGIN:VEVENT
DTSTART;TZID=America/New_York:20300926T123000
DTEND;TZID=America/New_York:20300926T133000
DTSTAMP:20260420T160900
CREATED:20251227T204913Z
LAST-MODIFIED:20251227T204913Z
UID:10000494-1916656200-1916659800@dev.mcbridelibrary.org
SUMMARY:Books on Wheels—Rosewood Apts
DESCRIPTION:
URL:https://dev.mcbridelibrary.org/event/books-on-wheels-rosewood-apts/2030-09-26/
ATTACH;FMTTYPE=image/png:https://dev.mcbridelibrary.org/wp-content/uploads/2024/12/Books-On-Wheels.png
END:VEVENT
BEGIN:VEVENT
DTSTART;TZID=America/New_York:20301003T123000
DTEND;TZID=America/New_York:20301003T133000
DTSTAMP:20260420T160900
CREATED:20251227T211022Z
LAST-MODIFIED:20251227T211022Z
UID:10000629-1917261000-1917264600@dev.mcbridelibrary.org
SUMMARY:Books on Wheels—Celebration Villa
DESCRIPTION:
URL:https://dev.mcbridelibrary.org/event/books-on-wheels-celebration-villa-2/2030-10-03/
ATTACH;FMTTYPE=image/png:https://dev.mcbridelibrary.org/wp-content/uploads/2024/12/Books-On-Wheels.png
END:VEVENT
BEGIN:VEVENT
DTSTART;TZID=America/New_York:20301005T110000
DTEND;TZID=America/New_York:20301005T130000
DTSTAMP:20260420T160900
CREATED:20251227T215930Z
LAST-MODIFIED:20251227T215930Z
UID:10000734-1917428400-1917435600@dev.mcbridelibrary.org
SUMMARY:Silent Book Club
DESCRIPTION:For adults (18 & up) \nFor teens (13-17) \nBecome a member of the McBride chapter of Silent Book Club®.  Check it out at silentbook.club and join readers in over 1\,000 chapters worldwide. “At Silent Book Club® there’s no assigned reading. SBC members gather in bars\, cafés\, bookstores\, libraries\, and online to read together in quiet camaraderie.”
URL:https://dev.mcbridelibrary.org/event/silent-book-club-3/2030-10-05/
LOCATION:Reading Lounge\, main floor
ATTACH;FMTTYPE=image/png:https://dev.mcbridelibrary.org/wp-content/uploads/2024/12/SBC.png
END:VEVENT
BEGIN:VEVENT
DTSTART;TZID=America/New_York:20301010T123000
DTEND;TZID=America/New_York:20301010T133000
DTSTAMP:20260420T160900
CREATED:20251227T204913Z
LAST-MODIFIED:20251227T204913Z
UID:10000495-1917865800-1917869400@dev.mcbridelibrary.org
SUMMARY:Books on Wheels—Rosewood Apts
DESCRIPTION:
URL:https://dev.mcbridelibrary.org/event/books-on-wheels-rosewood-apts/2030-10-10/
ATTACH;FMTTYPE=image/png:https://dev.mcbridelibrary.org/wp-content/uploads/2024/12/Books-On-Wheels.png
END:VEVENT
BEGIN:VEVENT
DTSTART;TZID=America/New_York:20301015T123000
DTEND;TZID=America/New_York:20301015T133000
DTSTAMP:20260420T160900
CREATED:20260127T174041Z
LAST-MODIFIED:20260127T174041Z
UID:10000869-1918297800-1918301400@dev.mcbridelibrary.org
SUMMARY:Books on Wheels—Glen Brook & Evan Owens Apts
DESCRIPTION:
URL:https://dev.mcbridelibrary.org/event/books-on-wheels-glenbrook-evan-owens-apts-2/2030-10-15/
ATTACH;FMTTYPE=image/png:https://dev.mcbridelibrary.org/wp-content/uploads/2024/12/Books-On-Wheels.png
END:VEVENT
BEGIN:VEVENT
DTSTART;TZID=America/New_York:20301017T100000
DTEND;TZID=America/New_York:20301017T140000
DTSTAMP:20260420T160900
CREATED:20260204T201735Z
LAST-MODIFIED:20260204T201735Z
UID:10000930-1918461600-1918476000@dev.mcbridelibrary.org
SUMMARY:CareerLink Bus
DESCRIPTION:
URL:https://dev.mcbridelibrary.org/event/careerlink-bus/2030-10-17/
END:VEVENT
BEGIN:VEVENT
DTSTART;TZID=America/New_York:20301017T123000
DTEND;TZID=America/New_York:20301017T133000
DTSTAMP:20260420T160900
CREATED:20251227T211022Z
LAST-MODIFIED:20251227T211022Z
UID:10000630-1918470600-1918474200@dev.mcbridelibrary.org
SUMMARY:Books on Wheels—Celebration Villa
DESCRIPTION:
URL:https://dev.mcbridelibrary.org/event/books-on-wheels-celebration-villa-2/2030-10-17/
ATTACH;FMTTYPE=image/png:https://dev.mcbridelibrary.org/wp-content/uploads/2024/12/Books-On-Wheels.png
END:VEVENT
BEGIN:VEVENT
DTSTART;TZID=America/New_York:20301018T130000
DTEND;TZID=America/New_York:20301018T140000
DTSTAMP:20260420T160900
CREATED:20260126T221629Z
LAST-MODIFIED:20260126T221629Z
UID:10000801-1918558800-1918562400@dev.mcbridelibrary.org
SUMMARY:Genealogy Workshop
DESCRIPTION:The McBride genealogy group meets every second Friday at 1:00 pm. All are welcome.
URL:https://dev.mcbridelibrary.org/event/genealogy-workshop-2-2/2030-10-18/
LOCATION:Genealogy Room\, first floor
ATTACH;FMTTYPE=image/jpeg:https://dev.mcbridelibrary.org/wp-content/uploads/2024/12/genealogy-logo.jpg
END:VEVENT
END:VCALENDAR