BEGIN:VCALENDAR
VERSION:2.0
PRODID:-//McBride Memorial Library - ECPv6.15.15//NONSGML v1.0//EN
CALSCALE:GREGORIAN
METHOD:PUBLISH
X-ORIGINAL-URL:https://dev.mcbridelibrary.org
X-WR-CALDESC:Events for McBride Memorial Library
REFRESH-INTERVAL;VALUE=DURATION:PT1H
X-Robots-Tag:noindex
X-PUBLISHED-TTL:PT1H
BEGIN:VTIMEZONE
TZID:America/New_York
BEGIN:DAYLIGHT
TZOFFSETFROM:-0500
TZOFFSETTO:-0400
TZNAME:EDT
DTSTART:20290311T070000
END:DAYLIGHT
BEGIN:STANDARD
TZOFFSETFROM:-0400
TZOFFSETTO:-0500
TZNAME:EST
DTSTART:20291104T060000
END:STANDARD
BEGIN:DAYLIGHT
TZOFFSETFROM:-0500
TZOFFSETTO:-0400
TZNAME:EDT
DTSTART:20300310T070000
END:DAYLIGHT
BEGIN:STANDARD
TZOFFSETFROM:-0400
TZOFFSETTO:-0500
TZNAME:EST
DTSTART:20301103T060000
END:STANDARD
BEGIN:DAYLIGHT
TZOFFSETFROM:-0500
TZOFFSETTO:-0400
TZNAME:EDT
DTSTART:20310309T070000
END:DAYLIGHT
BEGIN:STANDARD
TZOFFSETFROM:-0400
TZOFFSETTO:-0500
TZNAME:EST
DTSTART:20311102T060000
END:STANDARD
BEGIN:DAYLIGHT
TZOFFSETFROM:-0500
TZOFFSETTO:-0400
TZNAME:EDT
DTSTART:20320314T070000
END:DAYLIGHT
BEGIN:STANDARD
TZOFFSETFROM:-0400
TZOFFSETTO:-0500
TZNAME:EST
DTSTART:20321107T060000
END:STANDARD
END:VTIMEZONE
BEGIN:VEVENT
DTSTART;TZID=America/New_York:20301003T123000
DTEND;TZID=America/New_York:20301003T133000
DTSTAMP:20260420T125129
CREATED:20251227T211022Z
LAST-MODIFIED:20251227T211022Z
UID:10000629-1917261000-1917264600@dev.mcbridelibrary.org
SUMMARY:Books on Wheels—Celebration Villa
DESCRIPTION:
URL:https://dev.mcbridelibrary.org/event/books-on-wheels-celebration-villa-2/2030-10-03/
ATTACH;FMTTYPE=image/png:https://dev.mcbridelibrary.org/wp-content/uploads/2024/12/Books-On-Wheels.png
END:VEVENT
BEGIN:VEVENT
DTSTART;TZID=America/New_York:20301005T110000
DTEND;TZID=America/New_York:20301005T130000
DTSTAMP:20260420T125130
CREATED:20251227T215930Z
LAST-MODIFIED:20251227T215930Z
UID:10000734-1917428400-1917435600@dev.mcbridelibrary.org
SUMMARY:Silent Book Club
DESCRIPTION:For adults (18 & up) \nFor teens (13-17) \nBecome a member of the McBride chapter of Silent Book Club®.  Check it out at silentbook.club and join readers in over 1\,000 chapters worldwide. “At Silent Book Club® there’s no assigned reading. SBC members gather in bars\, cafés\, bookstores\, libraries\, and online to read together in quiet camaraderie.”
URL:https://dev.mcbridelibrary.org/event/silent-book-club-3/2030-10-05/
LOCATION:Reading Lounge\, main floor
ATTACH;FMTTYPE=image/png:https://dev.mcbridelibrary.org/wp-content/uploads/2024/12/SBC.png
END:VEVENT
BEGIN:VEVENT
DTSTART;TZID=America/New_York:20301010T123000
DTEND;TZID=America/New_York:20301010T133000
DTSTAMP:20260420T125130
CREATED:20251227T204913Z
LAST-MODIFIED:20251227T204913Z
UID:10000495-1917865800-1917869400@dev.mcbridelibrary.org
SUMMARY:Books on Wheels—Rosewood Apts
DESCRIPTION:
URL:https://dev.mcbridelibrary.org/event/books-on-wheels-rosewood-apts/2030-10-10/
ATTACH;FMTTYPE=image/png:https://dev.mcbridelibrary.org/wp-content/uploads/2024/12/Books-On-Wheels.png
END:VEVENT
BEGIN:VEVENT
DTSTART;TZID=America/New_York:20301015T123000
DTEND;TZID=America/New_York:20301015T133000
DTSTAMP:20260420T125130
CREATED:20260127T174041Z
LAST-MODIFIED:20260127T174041Z
UID:10000869-1918297800-1918301400@dev.mcbridelibrary.org
SUMMARY:Books on Wheels—Glen Brook & Evan Owens Apts
DESCRIPTION:
URL:https://dev.mcbridelibrary.org/event/books-on-wheels-glenbrook-evan-owens-apts-2/2030-10-15/
ATTACH;FMTTYPE=image/png:https://dev.mcbridelibrary.org/wp-content/uploads/2024/12/Books-On-Wheels.png
END:VEVENT
BEGIN:VEVENT
DTSTART;TZID=America/New_York:20301017T100000
DTEND;TZID=America/New_York:20301017T140000
DTSTAMP:20260420T125130
CREATED:20260204T201735Z
LAST-MODIFIED:20260204T201735Z
UID:10000930-1918461600-1918476000@dev.mcbridelibrary.org
SUMMARY:CareerLink Bus
DESCRIPTION:
URL:https://dev.mcbridelibrary.org/event/careerlink-bus/2030-10-17/
END:VEVENT
BEGIN:VEVENT
DTSTART;TZID=America/New_York:20301017T123000
DTEND;TZID=America/New_York:20301017T133000
DTSTAMP:20260420T125130
CREATED:20251227T211022Z
LAST-MODIFIED:20251227T211022Z
UID:10000630-1918470600-1918474200@dev.mcbridelibrary.org
SUMMARY:Books on Wheels—Celebration Villa
DESCRIPTION:
URL:https://dev.mcbridelibrary.org/event/books-on-wheels-celebration-villa-2/2030-10-17/
ATTACH;FMTTYPE=image/png:https://dev.mcbridelibrary.org/wp-content/uploads/2024/12/Books-On-Wheels.png
END:VEVENT
BEGIN:VEVENT
DTSTART;TZID=America/New_York:20301018T130000
DTEND;TZID=America/New_York:20301018T140000
DTSTAMP:20260420T125130
CREATED:20260126T221629Z
LAST-MODIFIED:20260126T221629Z
UID:10000801-1918558800-1918562400@dev.mcbridelibrary.org
SUMMARY:Genealogy Workshop
DESCRIPTION:The McBride genealogy group meets every second Friday at 1:00 pm. All are welcome.
URL:https://dev.mcbridelibrary.org/event/genealogy-workshop-2-2/2030-10-18/
LOCATION:Genealogy Room\, first floor
ATTACH;FMTTYPE=image/jpeg:https://dev.mcbridelibrary.org/wp-content/uploads/2024/12/genealogy-logo.jpg
END:VEVENT
BEGIN:VEVENT
DTSTART;TZID=America/New_York:20301024T123000
DTEND;TZID=America/New_York:20301024T133000
DTSTAMP:20260420T125130
CREATED:20251227T204913Z
LAST-MODIFIED:20251227T204913Z
UID:10000496-1919075400-1919079000@dev.mcbridelibrary.org
SUMMARY:Books on Wheels—Rosewood Apts
DESCRIPTION:
URL:https://dev.mcbridelibrary.org/event/books-on-wheels-rosewood-apts/2030-10-24/
ATTACH;FMTTYPE=image/png:https://dev.mcbridelibrary.org/wp-content/uploads/2024/12/Books-On-Wheels.png
END:VEVENT
BEGIN:VEVENT
DTSTART;TZID=America/New_York:20301031T123000
DTEND;TZID=America/New_York:20301031T133000
DTSTAMP:20260420T125130
CREATED:20251227T211022Z
LAST-MODIFIED:20251227T211022Z
UID:10000631-1919680200-1919683800@dev.mcbridelibrary.org
SUMMARY:Books on Wheels—Celebration Villa
DESCRIPTION:
URL:https://dev.mcbridelibrary.org/event/books-on-wheels-celebration-villa-2/2030-10-31/
ATTACH;FMTTYPE=image/png:https://dev.mcbridelibrary.org/wp-content/uploads/2024/12/Books-On-Wheels.png
END:VEVENT
BEGIN:VEVENT
DTSTART;TZID=America/New_York:20301102T110000
DTEND;TZID=America/New_York:20301102T130000
DTSTAMP:20260420T125130
CREATED:20251227T215930Z
LAST-MODIFIED:20251227T215930Z
UID:10000735-1919847600-1919854800@dev.mcbridelibrary.org
SUMMARY:Silent Book Club
DESCRIPTION:For adults (18 & up) \nFor teens (13-17) \nBecome a member of the McBride chapter of Silent Book Club®.  Check it out at silentbook.club and join readers in over 1\,000 chapters worldwide. “At Silent Book Club® there’s no assigned reading. SBC members gather in bars\, cafés\, bookstores\, libraries\, and online to read together in quiet camaraderie.”
URL:https://dev.mcbridelibrary.org/event/silent-book-club-3/2030-11-02/
LOCATION:Reading Lounge\, main floor
ATTACH;FMTTYPE=image/png:https://dev.mcbridelibrary.org/wp-content/uploads/2024/12/SBC.png
END:VEVENT
BEGIN:VEVENT
DTSTART;TZID=America/New_York:20301107T123000
DTEND;TZID=America/New_York:20301107T133000
DTSTAMP:20260420T125130
CREATED:20251227T204913Z
LAST-MODIFIED:20251227T204913Z
UID:10000497-1920285000-1920288600@dev.mcbridelibrary.org
SUMMARY:Books on Wheels—Rosewood Apts
DESCRIPTION:
URL:https://dev.mcbridelibrary.org/event/books-on-wheels-rosewood-apts/2030-11-07/
ATTACH;FMTTYPE=image/png:https://dev.mcbridelibrary.org/wp-content/uploads/2024/12/Books-On-Wheels.png
END:VEVENT
BEGIN:VEVENT
DTSTART;TZID=America/New_York:20301112T123000
DTEND;TZID=America/New_York:20301112T133000
DTSTAMP:20260420T125130
CREATED:20260127T174041Z
LAST-MODIFIED:20260127T174041Z
UID:10000870-1920717000-1920720600@dev.mcbridelibrary.org
SUMMARY:Books on Wheels—Glen Brook & Evan Owens Apts
DESCRIPTION:
URL:https://dev.mcbridelibrary.org/event/books-on-wheels-glenbrook-evan-owens-apts-2/2030-11-12/
ATTACH;FMTTYPE=image/png:https://dev.mcbridelibrary.org/wp-content/uploads/2024/12/Books-On-Wheels.png
END:VEVENT
BEGIN:VEVENT
DTSTART;TZID=America/New_York:20301114T123000
DTEND;TZID=America/New_York:20301114T133000
DTSTAMP:20260420T125130
CREATED:20251227T211022Z
LAST-MODIFIED:20251227T211022Z
UID:10000632-1920889800-1920893400@dev.mcbridelibrary.org
SUMMARY:Books on Wheels—Celebration Villa
DESCRIPTION:
URL:https://dev.mcbridelibrary.org/event/books-on-wheels-celebration-villa-2/2030-11-14/
ATTACH;FMTTYPE=image/png:https://dev.mcbridelibrary.org/wp-content/uploads/2024/12/Books-On-Wheels.png
END:VEVENT
BEGIN:VEVENT
DTSTART;TZID=America/New_York:20301115T130000
DTEND;TZID=America/New_York:20301115T140000
DTSTAMP:20260420T125130
CREATED:20260126T221629Z
LAST-MODIFIED:20260126T221629Z
UID:10000802-1920978000-1920981600@dev.mcbridelibrary.org
SUMMARY:Genealogy Workshop
DESCRIPTION:The McBride genealogy group meets every second Friday at 1:00 pm. All are welcome.
URL:https://dev.mcbridelibrary.org/event/genealogy-workshop-2-2/2030-11-15/
LOCATION:Genealogy Room\, first floor
ATTACH;FMTTYPE=image/jpeg:https://dev.mcbridelibrary.org/wp-content/uploads/2024/12/genealogy-logo.jpg
END:VEVENT
BEGIN:VEVENT
DTSTART;TZID=America/New_York:20301121T100000
DTEND;TZID=America/New_York:20301121T140000
DTSTAMP:20260420T125130
CREATED:20260204T201735Z
LAST-MODIFIED:20260204T201735Z
UID:10000931-1921485600-1921500000@dev.mcbridelibrary.org
SUMMARY:CareerLink Bus
DESCRIPTION:
URL:https://dev.mcbridelibrary.org/event/careerlink-bus/2030-11-21/
END:VEVENT
BEGIN:VEVENT
DTSTART;TZID=America/New_York:20301121T123000
DTEND;TZID=America/New_York:20301121T133000
DTSTAMP:20260420T125130
CREATED:20251227T204913Z
LAST-MODIFIED:20251227T204913Z
UID:10000498-1921494600-1921498200@dev.mcbridelibrary.org
SUMMARY:Books on Wheels—Rosewood Apts
DESCRIPTION:
URL:https://dev.mcbridelibrary.org/event/books-on-wheels-rosewood-apts/2030-11-21/
ATTACH;FMTTYPE=image/png:https://dev.mcbridelibrary.org/wp-content/uploads/2024/12/Books-On-Wheels.png
END:VEVENT
BEGIN:VEVENT
DTSTART;TZID=America/New_York:20301128T123000
DTEND;TZID=America/New_York:20301128T133000
DTSTAMP:20260420T125130
CREATED:20251227T211022Z
LAST-MODIFIED:20251227T211022Z
UID:10000633-1922099400-1922103000@dev.mcbridelibrary.org
SUMMARY:Books on Wheels—Celebration Villa
DESCRIPTION:
URL:https://dev.mcbridelibrary.org/event/books-on-wheels-celebration-villa-2/2030-11-28/
ATTACH;FMTTYPE=image/png:https://dev.mcbridelibrary.org/wp-content/uploads/2024/12/Books-On-Wheels.png
END:VEVENT
BEGIN:VEVENT
DTSTART;TZID=America/New_York:20301205T123000
DTEND;TZID=America/New_York:20301205T133000
DTSTAMP:20260420T125130
CREATED:20251227T204913Z
LAST-MODIFIED:20251227T204913Z
UID:10000499-1922704200-1922707800@dev.mcbridelibrary.org
SUMMARY:Books on Wheels—Rosewood Apts
DESCRIPTION:
URL:https://dev.mcbridelibrary.org/event/books-on-wheels-rosewood-apts/2030-12-05/
ATTACH;FMTTYPE=image/png:https://dev.mcbridelibrary.org/wp-content/uploads/2024/12/Books-On-Wheels.png
END:VEVENT
BEGIN:VEVENT
DTSTART;TZID=America/New_York:20301207T110000
DTEND;TZID=America/New_York:20301207T130000
DTSTAMP:20260420T125130
CREATED:20251227T215930Z
LAST-MODIFIED:20251227T215930Z
UID:10000736-1922871600-1922878800@dev.mcbridelibrary.org
SUMMARY:Silent Book Club
DESCRIPTION:For adults (18 & up) \nFor teens (13-17) \nBecome a member of the McBride chapter of Silent Book Club®.  Check it out at silentbook.club and join readers in over 1\,000 chapters worldwide. “At Silent Book Club® there’s no assigned reading. SBC members gather in bars\, cafés\, bookstores\, libraries\, and online to read together in quiet camaraderie.”
URL:https://dev.mcbridelibrary.org/event/silent-book-club-3/2030-12-07/
LOCATION:Reading Lounge\, main floor
ATTACH;FMTTYPE=image/png:https://dev.mcbridelibrary.org/wp-content/uploads/2024/12/SBC.png
END:VEVENT
BEGIN:VEVENT
DTSTART;TZID=America/New_York:20301210T123000
DTEND;TZID=America/New_York:20301210T133000
DTSTAMP:20260420T125130
CREATED:20260127T174041Z
LAST-MODIFIED:20260127T174041Z
UID:10000871-1923136200-1923139800@dev.mcbridelibrary.org
SUMMARY:Books on Wheels—Glen Brook & Evan Owens Apts
DESCRIPTION:
URL:https://dev.mcbridelibrary.org/event/books-on-wheels-glenbrook-evan-owens-apts-2/2030-12-10/
ATTACH;FMTTYPE=image/png:https://dev.mcbridelibrary.org/wp-content/uploads/2024/12/Books-On-Wheels.png
END:VEVENT
BEGIN:VEVENT
DTSTART;TZID=America/New_York:20301212T123000
DTEND;TZID=America/New_York:20301212T133000
DTSTAMP:20260420T125130
CREATED:20251227T211022Z
LAST-MODIFIED:20251227T211022Z
UID:10000634-1923309000-1923312600@dev.mcbridelibrary.org
SUMMARY:Books on Wheels—Celebration Villa
DESCRIPTION:
URL:https://dev.mcbridelibrary.org/event/books-on-wheels-celebration-villa-2/2030-12-12/
ATTACH;FMTTYPE=image/png:https://dev.mcbridelibrary.org/wp-content/uploads/2024/12/Books-On-Wheels.png
END:VEVENT
BEGIN:VEVENT
DTSTART;TZID=America/New_York:20301219T100000
DTEND;TZID=America/New_York:20301219T140000
DTSTAMP:20260420T125130
CREATED:20260204T201735Z
LAST-MODIFIED:20260204T201735Z
UID:10000932-1923904800-1923919200@dev.mcbridelibrary.org
SUMMARY:CareerLink Bus
DESCRIPTION:
URL:https://dev.mcbridelibrary.org/event/careerlink-bus/2030-12-19/
END:VEVENT
BEGIN:VEVENT
DTSTART;TZID=America/New_York:20301219T123000
DTEND;TZID=America/New_York:20301219T133000
DTSTAMP:20260420T125130
CREATED:20251227T204913Z
LAST-MODIFIED:20251227T204913Z
UID:10000500-1923913800-1923917400@dev.mcbridelibrary.org
SUMMARY:Books on Wheels—Rosewood Apts
DESCRIPTION:
URL:https://dev.mcbridelibrary.org/event/books-on-wheels-rosewood-apts/2030-12-19/
ATTACH;FMTTYPE=image/png:https://dev.mcbridelibrary.org/wp-content/uploads/2024/12/Books-On-Wheels.png
END:VEVENT
BEGIN:VEVENT
DTSTART;TZID=America/New_York:20301220T130000
DTEND;TZID=America/New_York:20301220T140000
DTSTAMP:20260420T125130
CREATED:20260126T221629Z
LAST-MODIFIED:20260126T221629Z
UID:10000803-1924002000-1924005600@dev.mcbridelibrary.org
SUMMARY:Genealogy Workshop
DESCRIPTION:The McBride genealogy group meets every second Friday at 1:00 pm. All are welcome.
URL:https://dev.mcbridelibrary.org/event/genealogy-workshop-2-2/2030-12-20/
LOCATION:Genealogy Room\, first floor
ATTACH;FMTTYPE=image/jpeg:https://dev.mcbridelibrary.org/wp-content/uploads/2024/12/genealogy-logo.jpg
END:VEVENT
BEGIN:VEVENT
DTSTART;TZID=America/New_York:20301226T123000
DTEND;TZID=America/New_York:20301226T133000
DTSTAMP:20260420T125130
CREATED:20251227T211022Z
LAST-MODIFIED:20251227T211022Z
UID:10000635-1924518600-1924522200@dev.mcbridelibrary.org
SUMMARY:Books on Wheels—Celebration Villa
DESCRIPTION:
URL:https://dev.mcbridelibrary.org/event/books-on-wheels-celebration-villa-2/2030-12-26/
ATTACH;FMTTYPE=image/png:https://dev.mcbridelibrary.org/wp-content/uploads/2024/12/Books-On-Wheels.png
END:VEVENT
BEGIN:VEVENT
DTSTART;TZID=America/New_York:20310102T123000
DTEND;TZID=America/New_York:20310102T133000
DTSTAMP:20260420T125130
CREATED:20251227T204913Z
LAST-MODIFIED:20251227T204913Z
UID:10000501-1925123400-1925127000@dev.mcbridelibrary.org
SUMMARY:Books on Wheels—Rosewood Apts
DESCRIPTION:
URL:https://dev.mcbridelibrary.org/event/books-on-wheels-rosewood-apts/2031-01-02/
ATTACH;FMTTYPE=image/png:https://dev.mcbridelibrary.org/wp-content/uploads/2024/12/Books-On-Wheels.png
END:VEVENT
BEGIN:VEVENT
DTSTART;TZID=America/New_York:20310104T110000
DTEND;TZID=America/New_York:20310104T130000
DTSTAMP:20260420T125130
CREATED:20251227T215930Z
LAST-MODIFIED:20251227T215930Z
UID:10000737-1925290800-1925298000@dev.mcbridelibrary.org
SUMMARY:Silent Book Club
DESCRIPTION:For adults (18 & up) \nFor teens (13-17) \nBecome a member of the McBride chapter of Silent Book Club®.  Check it out at silentbook.club and join readers in over 1\,000 chapters worldwide. “At Silent Book Club® there’s no assigned reading. SBC members gather in bars\, cafés\, bookstores\, libraries\, and online to read together in quiet camaraderie.”
URL:https://dev.mcbridelibrary.org/event/silent-book-club-3/2031-01-04/
LOCATION:Reading Lounge\, main floor
ATTACH;FMTTYPE=image/png:https://dev.mcbridelibrary.org/wp-content/uploads/2024/12/SBC.png
END:VEVENT
BEGIN:VEVENT
DTSTART;TZID=America/New_York:20310107T123000
DTEND;TZID=America/New_York:20310107T133000
DTSTAMP:20260420T125130
CREATED:20260127T174041Z
LAST-MODIFIED:20260127T174041Z
UID:10000872-1925555400-1925559000@dev.mcbridelibrary.org
SUMMARY:Books on Wheels—Glen Brook & Evan Owens Apts
DESCRIPTION:
URL:https://dev.mcbridelibrary.org/event/books-on-wheels-glenbrook-evan-owens-apts-2/2031-01-07/
ATTACH;FMTTYPE=image/png:https://dev.mcbridelibrary.org/wp-content/uploads/2024/12/Books-On-Wheels.png
END:VEVENT
BEGIN:VEVENT
DTSTART;TZID=America/New_York:20310109T123000
DTEND;TZID=America/New_York:20310109T133000
DTSTAMP:20260420T125130
CREATED:20251227T211022Z
LAST-MODIFIED:20251227T211022Z
UID:10000636-1925728200-1925731800@dev.mcbridelibrary.org
SUMMARY:Books on Wheels—Celebration Villa
DESCRIPTION:
URL:https://dev.mcbridelibrary.org/event/books-on-wheels-celebration-villa-2/2031-01-09/
ATTACH;FMTTYPE=image/png:https://dev.mcbridelibrary.org/wp-content/uploads/2024/12/Books-On-Wheels.png
END:VEVENT
BEGIN:VEVENT
DTSTART;TZID=America/New_York:20310116T100000
DTEND;TZID=America/New_York:20310116T140000
DTSTAMP:20260420T125130
CREATED:20260204T201735Z
LAST-MODIFIED:20260204T201735Z
UID:10000933-1926324000-1926338400@dev.mcbridelibrary.org
SUMMARY:CareerLink Bus
DESCRIPTION:
URL:https://dev.mcbridelibrary.org/event/careerlink-bus/2031-01-16/
END:VEVENT
END:VCALENDAR