BEGIN:VCALENDAR
VERSION:2.0
PRODID:-//McBride Memorial Library - ECPv6.15.15//NONSGML v1.0//EN
CALSCALE:GREGORIAN
METHOD:PUBLISH
X-ORIGINAL-URL:https://dev.mcbridelibrary.org
X-WR-CALDESC:Events for McBride Memorial Library
REFRESH-INTERVAL;VALUE=DURATION:PT1H
X-Robots-Tag:noindex
X-PUBLISHED-TTL:PT1H
BEGIN:VTIMEZONE
TZID:America/New_York
BEGIN:DAYLIGHT
TZOFFSETFROM:-0500
TZOFFSETTO:-0400
TZNAME:EDT
DTSTART:20270314T070000
END:DAYLIGHT
BEGIN:STANDARD
TZOFFSETFROM:-0400
TZOFFSETTO:-0500
TZNAME:EST
DTSTART:20271107T060000
END:STANDARD
BEGIN:DAYLIGHT
TZOFFSETFROM:-0500
TZOFFSETTO:-0400
TZNAME:EDT
DTSTART:20280312T070000
END:DAYLIGHT
BEGIN:STANDARD
TZOFFSETFROM:-0400
TZOFFSETTO:-0500
TZNAME:EST
DTSTART:20281105T060000
END:STANDARD
BEGIN:DAYLIGHT
TZOFFSETFROM:-0500
TZOFFSETTO:-0400
TZNAME:EDT
DTSTART:20290311T070000
END:DAYLIGHT
BEGIN:STANDARD
TZOFFSETFROM:-0400
TZOFFSETTO:-0500
TZNAME:EST
DTSTART:20291104T060000
END:STANDARD
BEGIN:DAYLIGHT
TZOFFSETFROM:-0500
TZOFFSETTO:-0400
TZNAME:EDT
DTSTART:20300310T070000
END:DAYLIGHT
BEGIN:STANDARD
TZOFFSETFROM:-0400
TZOFFSETTO:-0500
TZNAME:EST
DTSTART:20301103T060000
END:STANDARD
END:VTIMEZONE
BEGIN:VEVENT
DTSTART;TZID=America/New_York:20281017T123000
DTEND;TZID=America/New_York:20281017T133000
DTSTAMP:20260419T114158
CREATED:20260127T174041Z
LAST-MODIFIED:20260127T174041Z
UID:10000843-1855398600-1855402200@dev.mcbridelibrary.org
SUMMARY:Books on Wheels—Glen Brook & Evan Owens Apts
DESCRIPTION:
URL:https://dev.mcbridelibrary.org/event/books-on-wheels-glenbrook-evan-owens-apts-2/2028-10-17/
ATTACH;FMTTYPE=image/png:https://dev.mcbridelibrary.org/wp-content/uploads/2024/12/Books-On-Wheels.png
END:VEVENT
BEGIN:VEVENT
DTSTART;TZID=America/New_York:20281019T100000
DTEND;TZID=America/New_York:20281019T140000
DTSTAMP:20260419T114158
CREATED:20260204T201735Z
LAST-MODIFIED:20260204T201735Z
UID:10000906-1855562400-1855576800@dev.mcbridelibrary.org
SUMMARY:CareerLink Bus
DESCRIPTION:
URL:https://dev.mcbridelibrary.org/event/careerlink-bus/2028-10-19/
END:VEVENT
BEGIN:VEVENT
DTSTART;TZID=America/New_York:20281019T123000
DTEND;TZID=America/New_York:20281019T133000
DTSTAMP:20260419T114158
CREATED:20251227T211022Z
LAST-MODIFIED:20251227T211022Z
UID:10000578-1855571400-1855575000@dev.mcbridelibrary.org
SUMMARY:Books on Wheels—Celebration Villa
DESCRIPTION:
URL:https://dev.mcbridelibrary.org/event/books-on-wheels-celebration-villa-2/2028-10-19/
ATTACH;FMTTYPE=image/png:https://dev.mcbridelibrary.org/wp-content/uploads/2024/12/Books-On-Wheels.png
END:VEVENT
BEGIN:VEVENT
DTSTART;TZID=America/New_York:20281020T130000
DTEND;TZID=America/New_York:20281020T140000
DTSTAMP:20260419T114158
CREATED:20260126T221629Z
LAST-MODIFIED:20260126T221629Z
UID:10000777-1855659600-1855663200@dev.mcbridelibrary.org
SUMMARY:Genealogy Workshop
DESCRIPTION:The McBride genealogy group meets every second Friday at 1:00 pm. All are welcome.
URL:https://dev.mcbridelibrary.org/event/genealogy-workshop-2-2/2028-10-20/
LOCATION:Genealogy Room\, first floor
ATTACH;FMTTYPE=image/jpeg:https://dev.mcbridelibrary.org/wp-content/uploads/2024/12/genealogy-logo.jpg
END:VEVENT
BEGIN:VEVENT
DTSTART;TZID=America/New_York:20281026T123000
DTEND;TZID=America/New_York:20281026T133000
DTSTAMP:20260419T114158
CREATED:20251227T204913Z
LAST-MODIFIED:20251227T204913Z
UID:10000444-1856176200-1856179800@dev.mcbridelibrary.org
SUMMARY:Books on Wheels—Rosewood Apts
DESCRIPTION:
URL:https://dev.mcbridelibrary.org/event/books-on-wheels-rosewood-apts/2028-10-26/
ATTACH;FMTTYPE=image/png:https://dev.mcbridelibrary.org/wp-content/uploads/2024/12/Books-On-Wheels.png
END:VEVENT
BEGIN:VEVENT
DTSTART;TZID=America/New_York:20281102T123000
DTEND;TZID=America/New_York:20281102T133000
DTSTAMP:20260419T114158
CREATED:20251227T211022Z
LAST-MODIFIED:20251227T211022Z
UID:10000579-1856781000-1856784600@dev.mcbridelibrary.org
SUMMARY:Books on Wheels—Celebration Villa
DESCRIPTION:
URL:https://dev.mcbridelibrary.org/event/books-on-wheels-celebration-villa-2/2028-11-02/
ATTACH;FMTTYPE=image/png:https://dev.mcbridelibrary.org/wp-content/uploads/2024/12/Books-On-Wheels.png
END:VEVENT
BEGIN:VEVENT
DTSTART;TZID=America/New_York:20281104T110000
DTEND;TZID=America/New_York:20281104T130000
DTSTAMP:20260419T114158
CREATED:20251227T215930Z
LAST-MODIFIED:20251227T215930Z
UID:10000711-1856948400-1856955600@dev.mcbridelibrary.org
SUMMARY:Silent Book Club
DESCRIPTION:For adults (18 & up) \nFor teens (13-17) \nBecome a member of the McBride chapter of Silent Book Club®.  Check it out at silentbook.club and join readers in over 1\,000 chapters worldwide. “At Silent Book Club® there’s no assigned reading. SBC members gather in bars\, cafés\, bookstores\, libraries\, and online to read together in quiet camaraderie.”
URL:https://dev.mcbridelibrary.org/event/silent-book-club-3/2028-11-04/
LOCATION:Reading Lounge\, main floor
ATTACH;FMTTYPE=image/png:https://dev.mcbridelibrary.org/wp-content/uploads/2024/12/SBC.png
END:VEVENT
BEGIN:VEVENT
DTSTART;TZID=America/New_York:20281109T123000
DTEND;TZID=America/New_York:20281109T133000
DTSTAMP:20260419T114158
CREATED:20251227T204913Z
LAST-MODIFIED:20251227T204913Z
UID:10000445-1857385800-1857389400@dev.mcbridelibrary.org
SUMMARY:Books on Wheels—Rosewood Apts
DESCRIPTION:
URL:https://dev.mcbridelibrary.org/event/books-on-wheels-rosewood-apts/2028-11-09/
ATTACH;FMTTYPE=image/png:https://dev.mcbridelibrary.org/wp-content/uploads/2024/12/Books-On-Wheels.png
END:VEVENT
BEGIN:VEVENT
DTSTART;TZID=America/New_York:20281114T123000
DTEND;TZID=America/New_York:20281114T133000
DTSTAMP:20260419T114158
CREATED:20260127T174041Z
LAST-MODIFIED:20260127T174041Z
UID:10000844-1857817800-1857821400@dev.mcbridelibrary.org
SUMMARY:Books on Wheels—Glen Brook & Evan Owens Apts
DESCRIPTION:
URL:https://dev.mcbridelibrary.org/event/books-on-wheels-glenbrook-evan-owens-apts-2/2028-11-14/
ATTACH;FMTTYPE=image/png:https://dev.mcbridelibrary.org/wp-content/uploads/2024/12/Books-On-Wheels.png
END:VEVENT
BEGIN:VEVENT
DTSTART;TZID=America/New_York:20281116T100000
DTEND;TZID=America/New_York:20281116T140000
DTSTAMP:20260419T114158
CREATED:20260204T201735Z
LAST-MODIFIED:20260204T201735Z
UID:10000907-1857981600-1857996000@dev.mcbridelibrary.org
SUMMARY:CareerLink Bus
DESCRIPTION:
URL:https://dev.mcbridelibrary.org/event/careerlink-bus/2028-11-16/
END:VEVENT
BEGIN:VEVENT
DTSTART;TZID=America/New_York:20281116T123000
DTEND;TZID=America/New_York:20281116T133000
DTSTAMP:20260419T114158
CREATED:20251227T211022Z
LAST-MODIFIED:20251227T211022Z
UID:10000580-1857990600-1857994200@dev.mcbridelibrary.org
SUMMARY:Books on Wheels—Celebration Villa
DESCRIPTION:
URL:https://dev.mcbridelibrary.org/event/books-on-wheels-celebration-villa-2/2028-11-16/
ATTACH;FMTTYPE=image/png:https://dev.mcbridelibrary.org/wp-content/uploads/2024/12/Books-On-Wheels.png
END:VEVENT
BEGIN:VEVENT
DTSTART;TZID=America/New_York:20281117T130000
DTEND;TZID=America/New_York:20281117T140000
DTSTAMP:20260419T114158
CREATED:20260126T221629Z
LAST-MODIFIED:20260126T221629Z
UID:10000778-1858078800-1858082400@dev.mcbridelibrary.org
SUMMARY:Genealogy Workshop
DESCRIPTION:The McBride genealogy group meets every second Friday at 1:00 pm. All are welcome.
URL:https://dev.mcbridelibrary.org/event/genealogy-workshop-2-2/2028-11-17/
LOCATION:Genealogy Room\, first floor
ATTACH;FMTTYPE=image/jpeg:https://dev.mcbridelibrary.org/wp-content/uploads/2024/12/genealogy-logo.jpg
END:VEVENT
BEGIN:VEVENT
DTSTART;TZID=America/New_York:20281123T123000
DTEND;TZID=America/New_York:20281123T133000
DTSTAMP:20260419T114158
CREATED:20251227T204913Z
LAST-MODIFIED:20251227T204913Z
UID:10000446-1858595400-1858599000@dev.mcbridelibrary.org
SUMMARY:Books on Wheels—Rosewood Apts
DESCRIPTION:
URL:https://dev.mcbridelibrary.org/event/books-on-wheels-rosewood-apts/2028-11-23/
ATTACH;FMTTYPE=image/png:https://dev.mcbridelibrary.org/wp-content/uploads/2024/12/Books-On-Wheels.png
END:VEVENT
BEGIN:VEVENT
DTSTART;TZID=America/New_York:20281130T123000
DTEND;TZID=America/New_York:20281130T133000
DTSTAMP:20260419T114158
CREATED:20251227T211022Z
LAST-MODIFIED:20251227T211022Z
UID:10000581-1859200200-1859203800@dev.mcbridelibrary.org
SUMMARY:Books on Wheels—Celebration Villa
DESCRIPTION:
URL:https://dev.mcbridelibrary.org/event/books-on-wheels-celebration-villa-2/2028-11-30/
ATTACH;FMTTYPE=image/png:https://dev.mcbridelibrary.org/wp-content/uploads/2024/12/Books-On-Wheels.png
END:VEVENT
BEGIN:VEVENT
DTSTART;TZID=America/New_York:20281202T110000
DTEND;TZID=America/New_York:20281202T130000
DTSTAMP:20260419T114158
CREATED:20251227T215930Z
LAST-MODIFIED:20251227T215930Z
UID:10000712-1859367600-1859374800@dev.mcbridelibrary.org
SUMMARY:Silent Book Club
DESCRIPTION:For adults (18 & up) \nFor teens (13-17) \nBecome a member of the McBride chapter of Silent Book Club®.  Check it out at silentbook.club and join readers in over 1\,000 chapters worldwide. “At Silent Book Club® there’s no assigned reading. SBC members gather in bars\, cafés\, bookstores\, libraries\, and online to read together in quiet camaraderie.”
URL:https://dev.mcbridelibrary.org/event/silent-book-club-3/2028-12-02/
LOCATION:Reading Lounge\, main floor
ATTACH;FMTTYPE=image/png:https://dev.mcbridelibrary.org/wp-content/uploads/2024/12/SBC.png
END:VEVENT
BEGIN:VEVENT
DTSTART;TZID=America/New_York:20281207T123000
DTEND;TZID=America/New_York:20281207T133000
DTSTAMP:20260419T114158
CREATED:20251227T204913Z
LAST-MODIFIED:20251227T204913Z
UID:10000447-1859805000-1859808600@dev.mcbridelibrary.org
SUMMARY:Books on Wheels—Rosewood Apts
DESCRIPTION:
URL:https://dev.mcbridelibrary.org/event/books-on-wheels-rosewood-apts/2028-12-07/
ATTACH;FMTTYPE=image/png:https://dev.mcbridelibrary.org/wp-content/uploads/2024/12/Books-On-Wheels.png
END:VEVENT
BEGIN:VEVENT
DTSTART;TZID=America/New_York:20281212T123000
DTEND;TZID=America/New_York:20281212T133000
DTSTAMP:20260419T114158
CREATED:20260127T174041Z
LAST-MODIFIED:20260127T174041Z
UID:10000845-1860237000-1860240600@dev.mcbridelibrary.org
SUMMARY:Books on Wheels—Glen Brook & Evan Owens Apts
DESCRIPTION:
URL:https://dev.mcbridelibrary.org/event/books-on-wheels-glenbrook-evan-owens-apts-2/2028-12-12/
ATTACH;FMTTYPE=image/png:https://dev.mcbridelibrary.org/wp-content/uploads/2024/12/Books-On-Wheels.png
END:VEVENT
BEGIN:VEVENT
DTSTART;TZID=America/New_York:20281214T123000
DTEND;TZID=America/New_York:20281214T133000
DTSTAMP:20260419T114158
CREATED:20251227T211022Z
LAST-MODIFIED:20251227T211022Z
UID:10000582-1860409800-1860413400@dev.mcbridelibrary.org
SUMMARY:Books on Wheels—Celebration Villa
DESCRIPTION:
URL:https://dev.mcbridelibrary.org/event/books-on-wheels-celebration-villa-2/2028-12-14/
ATTACH;FMTTYPE=image/png:https://dev.mcbridelibrary.org/wp-content/uploads/2024/12/Books-On-Wheels.png
END:VEVENT
BEGIN:VEVENT
DTSTART;TZID=America/New_York:20281215T130000
DTEND;TZID=America/New_York:20281215T140000
DTSTAMP:20260419T114158
CREATED:20260126T221629Z
LAST-MODIFIED:20260126T221629Z
UID:10000779-1860498000-1860501600@dev.mcbridelibrary.org
SUMMARY:Genealogy Workshop
DESCRIPTION:The McBride genealogy group meets every second Friday at 1:00 pm. All are welcome.
URL:https://dev.mcbridelibrary.org/event/genealogy-workshop-2-2/2028-12-15/
LOCATION:Genealogy Room\, first floor
ATTACH;FMTTYPE=image/jpeg:https://dev.mcbridelibrary.org/wp-content/uploads/2024/12/genealogy-logo.jpg
END:VEVENT
BEGIN:VEVENT
DTSTART;TZID=America/New_York:20281221T100000
DTEND;TZID=America/New_York:20281221T140000
DTSTAMP:20260419T114158
CREATED:20260204T201735Z
LAST-MODIFIED:20260204T201735Z
UID:10000908-1861005600-1861020000@dev.mcbridelibrary.org
SUMMARY:CareerLink Bus
DESCRIPTION:
URL:https://dev.mcbridelibrary.org/event/careerlink-bus/2028-12-21/
END:VEVENT
BEGIN:VEVENT
DTSTART;TZID=America/New_York:20281221T123000
DTEND;TZID=America/New_York:20281221T133000
DTSTAMP:20260419T114158
CREATED:20251227T204913Z
LAST-MODIFIED:20251227T204913Z
UID:10000448-1861014600-1861018200@dev.mcbridelibrary.org
SUMMARY:Books on Wheels—Rosewood Apts
DESCRIPTION:
URL:https://dev.mcbridelibrary.org/event/books-on-wheels-rosewood-apts/2028-12-21/
ATTACH;FMTTYPE=image/png:https://dev.mcbridelibrary.org/wp-content/uploads/2024/12/Books-On-Wheels.png
END:VEVENT
BEGIN:VEVENT
DTSTART;TZID=America/New_York:20281228T123000
DTEND;TZID=America/New_York:20281228T133000
DTSTAMP:20260419T114158
CREATED:20251227T211022Z
LAST-MODIFIED:20251227T211022Z
UID:10000583-1861619400-1861623000@dev.mcbridelibrary.org
SUMMARY:Books on Wheels—Celebration Villa
DESCRIPTION:
URL:https://dev.mcbridelibrary.org/event/books-on-wheels-celebration-villa-2/2028-12-28/
ATTACH;FMTTYPE=image/png:https://dev.mcbridelibrary.org/wp-content/uploads/2024/12/Books-On-Wheels.png
END:VEVENT
BEGIN:VEVENT
DTSTART;TZID=America/New_York:20290104T123000
DTEND;TZID=America/New_York:20290104T133000
DTSTAMP:20260419T114158
CREATED:20251227T204913Z
LAST-MODIFIED:20251227T204913Z
UID:10000449-1862224200-1862227800@dev.mcbridelibrary.org
SUMMARY:Books on Wheels—Rosewood Apts
DESCRIPTION:
URL:https://dev.mcbridelibrary.org/event/books-on-wheels-rosewood-apts/2029-01-04/
ATTACH;FMTTYPE=image/png:https://dev.mcbridelibrary.org/wp-content/uploads/2024/12/Books-On-Wheels.png
END:VEVENT
BEGIN:VEVENT
DTSTART;TZID=America/New_York:20290106T110000
DTEND;TZID=America/New_York:20290106T130000
DTSTAMP:20260419T114158
CREATED:20251227T215930Z
LAST-MODIFIED:20251227T215930Z
UID:10000713-1862391600-1862398800@dev.mcbridelibrary.org
SUMMARY:Silent Book Club
DESCRIPTION:For adults (18 & up) \nFor teens (13-17) \nBecome a member of the McBride chapter of Silent Book Club®.  Check it out at silentbook.club and join readers in over 1\,000 chapters worldwide. “At Silent Book Club® there’s no assigned reading. SBC members gather in bars\, cafés\, bookstores\, libraries\, and online to read together in quiet camaraderie.”
URL:https://dev.mcbridelibrary.org/event/silent-book-club-3/2029-01-06/
LOCATION:Reading Lounge\, main floor
ATTACH;FMTTYPE=image/png:https://dev.mcbridelibrary.org/wp-content/uploads/2024/12/SBC.png
END:VEVENT
BEGIN:VEVENT
DTSTART;TZID=America/New_York:20290109T123000
DTEND;TZID=America/New_York:20290109T133000
DTSTAMP:20260419T114158
CREATED:20260127T174041Z
LAST-MODIFIED:20260127T174041Z
UID:10000846-1862656200-1862659800@dev.mcbridelibrary.org
SUMMARY:Books on Wheels—Glen Brook & Evan Owens Apts
DESCRIPTION:
URL:https://dev.mcbridelibrary.org/event/books-on-wheels-glenbrook-evan-owens-apts-2/2029-01-09/
ATTACH;FMTTYPE=image/png:https://dev.mcbridelibrary.org/wp-content/uploads/2024/12/Books-On-Wheels.png
END:VEVENT
BEGIN:VEVENT
DTSTART;TZID=America/New_York:20290111T123000
DTEND;TZID=America/New_York:20290111T133000
DTSTAMP:20260419T114158
CREATED:20251227T211022Z
LAST-MODIFIED:20251227T211022Z
UID:10000584-1862829000-1862832600@dev.mcbridelibrary.org
SUMMARY:Books on Wheels—Celebration Villa
DESCRIPTION:
URL:https://dev.mcbridelibrary.org/event/books-on-wheels-celebration-villa-2/2029-01-11/
ATTACH;FMTTYPE=image/png:https://dev.mcbridelibrary.org/wp-content/uploads/2024/12/Books-On-Wheels.png
END:VEVENT
BEGIN:VEVENT
DTSTART;TZID=America/New_York:20290118T100000
DTEND;TZID=America/New_York:20290118T140000
DTSTAMP:20260419T114158
CREATED:20260204T201735Z
LAST-MODIFIED:20260204T201735Z
UID:10000909-1863424800-1863439200@dev.mcbridelibrary.org
SUMMARY:CareerLink Bus
DESCRIPTION:
URL:https://dev.mcbridelibrary.org/event/careerlink-bus/2029-01-18/
END:VEVENT
BEGIN:VEVENT
DTSTART;TZID=America/New_York:20290118T123000
DTEND;TZID=America/New_York:20290118T133000
DTSTAMP:20260419T114158
CREATED:20251227T204913Z
LAST-MODIFIED:20251227T204913Z
UID:10000450-1863433800-1863437400@dev.mcbridelibrary.org
SUMMARY:Books on Wheels—Rosewood Apts
DESCRIPTION:
URL:https://dev.mcbridelibrary.org/event/books-on-wheels-rosewood-apts/2029-01-18/
ATTACH;FMTTYPE=image/png:https://dev.mcbridelibrary.org/wp-content/uploads/2024/12/Books-On-Wheels.png
END:VEVENT
BEGIN:VEVENT
DTSTART;TZID=America/New_York:20290119T130000
DTEND;TZID=America/New_York:20290119T140000
DTSTAMP:20260419T114158
CREATED:20260126T221629Z
LAST-MODIFIED:20260126T221629Z
UID:10000780-1863522000-1863525600@dev.mcbridelibrary.org
SUMMARY:Genealogy Workshop
DESCRIPTION:The McBride genealogy group meets every second Friday at 1:00 pm. All are welcome.
URL:https://dev.mcbridelibrary.org/event/genealogy-workshop-2-2/2029-01-19/
LOCATION:Genealogy Room\, first floor
ATTACH;FMTTYPE=image/jpeg:https://dev.mcbridelibrary.org/wp-content/uploads/2024/12/genealogy-logo.jpg
END:VEVENT
BEGIN:VEVENT
DTSTART;TZID=America/New_York:20290125T123000
DTEND;TZID=America/New_York:20290125T133000
DTSTAMP:20260419T114158
CREATED:20251227T211022Z
LAST-MODIFIED:20251227T211022Z
UID:10000585-1864038600-1864042200@dev.mcbridelibrary.org
SUMMARY:Books on Wheels—Celebration Villa
DESCRIPTION:
URL:https://dev.mcbridelibrary.org/event/books-on-wheels-celebration-villa-2/2029-01-25/
ATTACH;FMTTYPE=image/png:https://dev.mcbridelibrary.org/wp-content/uploads/2024/12/Books-On-Wheels.png
END:VEVENT
END:VCALENDAR