BEGIN:VCALENDAR
VERSION:2.0
PRODID:-//McBride Memorial Library - ECPv6.15.15//NONSGML v1.0//EN
CALSCALE:GREGORIAN
METHOD:PUBLISH
X-ORIGINAL-URL:https://dev.mcbridelibrary.org
X-WR-CALDESC:Events for McBride Memorial Library
REFRESH-INTERVAL;VALUE=DURATION:PT1H
X-Robots-Tag:noindex
X-PUBLISHED-TTL:PT1H
BEGIN:VTIMEZONE
TZID:America/New_York
BEGIN:DAYLIGHT
TZOFFSETFROM:-0500
TZOFFSETTO:-0400
TZNAME:EDT
DTSTART:20270314T070000
END:DAYLIGHT
BEGIN:STANDARD
TZOFFSETFROM:-0400
TZOFFSETTO:-0500
TZNAME:EST
DTSTART:20271107T060000
END:STANDARD
BEGIN:DAYLIGHT
TZOFFSETFROM:-0500
TZOFFSETTO:-0400
TZNAME:EDT
DTSTART:20280312T070000
END:DAYLIGHT
BEGIN:STANDARD
TZOFFSETFROM:-0400
TZOFFSETTO:-0500
TZNAME:EST
DTSTART:20281105T060000
END:STANDARD
BEGIN:DAYLIGHT
TZOFFSETFROM:-0500
TZOFFSETTO:-0400
TZNAME:EDT
DTSTART:20290311T070000
END:DAYLIGHT
BEGIN:STANDARD
TZOFFSETFROM:-0400
TZOFFSETTO:-0500
TZNAME:EST
DTSTART:20291104T060000
END:STANDARD
END:VTIMEZONE
BEGIN:VEVENT
DTSTART;TZID=America/New_York:20280401T110000
DTEND;TZID=America/New_York:20280401T130000
DTSTAMP:20260421T045244
CREATED:20251227T215930Z
LAST-MODIFIED:20251227T215930Z
UID:10000704-1838199600-1838206800@dev.mcbridelibrary.org
SUMMARY:Silent Book Club
DESCRIPTION:For adults (18 & up) \nFor teens (13-17) \nBecome a member of the McBride chapter of Silent Book Club®.  Check it out at silentbook.club and join readers in over 1\,000 chapters worldwide. “At Silent Book Club® there’s no assigned reading. SBC members gather in bars\, cafés\, bookstores\, libraries\, and online to read together in quiet camaraderie.”
URL:https://dev.mcbridelibrary.org/event/silent-book-club-3/2028-04-01/
LOCATION:Reading Lounge\, main floor
ATTACH;FMTTYPE=image/png:https://dev.mcbridelibrary.org/wp-content/uploads/2024/12/SBC.png
END:VEVENT
BEGIN:VEVENT
DTSTART;TZID=America/New_York:20280404T123000
DTEND;TZID=America/New_York:20280404T133000
DTSTAMP:20260421T045244
CREATED:20260127T174041Z
LAST-MODIFIED:20260127T174041Z
UID:10000836-1838464200-1838467800@dev.mcbridelibrary.org
SUMMARY:Books on Wheels—Glen Brook & Evan Owens Apts
DESCRIPTION:
URL:https://dev.mcbridelibrary.org/event/books-on-wheels-glenbrook-evan-owens-apts-2/2028-04-04/
ATTACH;FMTTYPE=image/png:https://dev.mcbridelibrary.org/wp-content/uploads/2024/12/Books-On-Wheels.png
END:VEVENT
BEGIN:VEVENT
DTSTART;TZID=America/New_York:20280406T123000
DTEND;TZID=America/New_York:20280406T133000
DTSTAMP:20260421T045244
CREATED:20251227T211022Z
LAST-MODIFIED:20251227T211022Z
UID:10000564-1838637000-1838640600@dev.mcbridelibrary.org
SUMMARY:Books on Wheels—Celebration Villa
DESCRIPTION:
URL:https://dev.mcbridelibrary.org/event/books-on-wheels-celebration-villa-2/2028-04-06/
ATTACH;FMTTYPE=image/png:https://dev.mcbridelibrary.org/wp-content/uploads/2024/12/Books-On-Wheels.png
END:VEVENT
BEGIN:VEVENT
DTSTART;TZID=America/New_York:20280413T123000
DTEND;TZID=America/New_York:20280413T133000
DTSTAMP:20260421T045244
CREATED:20251227T204913Z
LAST-MODIFIED:20251227T204913Z
UID:10000430-1839241800-1839245400@dev.mcbridelibrary.org
SUMMARY:Books on Wheels—Rosewood Apts
DESCRIPTION:
URL:https://dev.mcbridelibrary.org/event/books-on-wheels-rosewood-apts/2028-04-13/
ATTACH;FMTTYPE=image/png:https://dev.mcbridelibrary.org/wp-content/uploads/2024/12/Books-On-Wheels.png
END:VEVENT
BEGIN:VEVENT
DTSTART;TZID=America/New_York:20280420T100000
DTEND;TZID=America/New_York:20280420T140000
DTSTAMP:20260421T045244
CREATED:20260204T201735Z
LAST-MODIFIED:20260204T201735Z
UID:10000900-1839837600-1839852000@dev.mcbridelibrary.org
SUMMARY:CareerLink Bus
DESCRIPTION:
URL:https://dev.mcbridelibrary.org/event/careerlink-bus/2028-04-20/
END:VEVENT
BEGIN:VEVENT
DTSTART;TZID=America/New_York:20280420T123000
DTEND;TZID=America/New_York:20280420T133000
DTSTAMP:20260421T045244
CREATED:20251227T211022Z
LAST-MODIFIED:20251227T211022Z
UID:10000565-1839846600-1839850200@dev.mcbridelibrary.org
SUMMARY:Books on Wheels—Celebration Villa
DESCRIPTION:
URL:https://dev.mcbridelibrary.org/event/books-on-wheels-celebration-villa-2/2028-04-20/
ATTACH;FMTTYPE=image/png:https://dev.mcbridelibrary.org/wp-content/uploads/2024/12/Books-On-Wheels.png
END:VEVENT
BEGIN:VEVENT
DTSTART;TZID=America/New_York:20280421T130000
DTEND;TZID=America/New_York:20280421T140000
DTSTAMP:20260421T045244
CREATED:20260126T221629Z
LAST-MODIFIED:20260126T221629Z
UID:10000771-1839934800-1839938400@dev.mcbridelibrary.org
SUMMARY:Genealogy Workshop
DESCRIPTION:The McBride genealogy group meets every second Friday at 1:00 pm. All are welcome.
URL:https://dev.mcbridelibrary.org/event/genealogy-workshop-2-2/2028-04-21/
LOCATION:Genealogy Room\, first floor
ATTACH;FMTTYPE=image/jpeg:https://dev.mcbridelibrary.org/wp-content/uploads/2024/12/genealogy-logo.jpg
END:VEVENT
BEGIN:VEVENT
DTSTART;TZID=America/New_York:20280427T123000
DTEND;TZID=America/New_York:20280427T133000
DTSTAMP:20260421T045244
CREATED:20251227T204913Z
LAST-MODIFIED:20251227T204913Z
UID:10000431-1840451400-1840455000@dev.mcbridelibrary.org
SUMMARY:Books on Wheels—Rosewood Apts
DESCRIPTION:
URL:https://dev.mcbridelibrary.org/event/books-on-wheels-rosewood-apts/2028-04-27/
ATTACH;FMTTYPE=image/png:https://dev.mcbridelibrary.org/wp-content/uploads/2024/12/Books-On-Wheels.png
END:VEVENT
END:VCALENDAR